BEGIN:VCALENDAR
VERSION:2.0
PRODID:-//The Jaime Elaine Creative - ECPv6.15.20//NONSGML v1.0//EN
CALSCALE:GREGORIAN
METHOD:PUBLISH
X-WR-CALNAME:The Jaime Elaine Creative
X-ORIGINAL-URL:https://jaimeelainecreative.com
X-WR-CALDESC:Events for The Jaime Elaine Creative
REFRESH-INTERVAL;VALUE=DURATION:PT1H
X-Robots-Tag:noindex
X-PUBLISHED-TTL:PT1H
BEGIN:VTIMEZONE
TZID:America/Chicago
BEGIN:DAYLIGHT
TZOFFSETFROM:-0600
TZOFFSETTO:-0500
TZNAME:CDT
DTSTART:20220313T080000
END:DAYLIGHT
BEGIN:STANDARD
TZOFFSETFROM:-0500
TZOFFSETTO:-0600
TZNAME:CST
DTSTART:20221106T070000
END:STANDARD
BEGIN:DAYLIGHT
TZOFFSETFROM:-0600
TZOFFSETTO:-0500
TZNAME:CDT
DTSTART:20230312T080000
END:DAYLIGHT
BEGIN:STANDARD
TZOFFSETFROM:-0500
TZOFFSETTO:-0600
TZNAME:CST
DTSTART:20231105T070000
END:STANDARD
BEGIN:DAYLIGHT
TZOFFSETFROM:-0600
TZOFFSETTO:-0500
TZNAME:CDT
DTSTART:20240310T080000
END:DAYLIGHT
BEGIN:STANDARD
TZOFFSETFROM:-0500
TZOFFSETTO:-0600
TZNAME:CST
DTSTART:20241103T070000
END:STANDARD
END:VTIMEZONE
BEGIN:VEVENT
DTSTART;TZID=America/Chicago:20230708T100000
DTEND;TZID=America/Chicago:20230709T190000
DTSTAMP:20260425T151216
CREATED:20230701T044333Z
LAST-MODIFIED:20230701T044333Z
UID:5064-1688810400-1688929200@jaimeelainecreative.com
SUMMARY:Southport Art Fest 2023
DESCRIPTION:The Jaime Elaine Creative will have a booth again this year at the Southport Art Fest! \n  \nThis festival was Jaime’s very first art festival ever last year\, and she is absolutely thrilled to be back again this year! The festival takes place July 8-9 on Southport between Byron and Waveband. If you visited last year\, Jaime’s booth will be in the same location\, just north of the Dairy Queen! \n  \nThe festival is free to attend. It runs from 10am-9pm on Saturday and from 10am-7pm on Sunday! \n  \nStop by and say hi!
URL:https://jaimeelainecreative.com/event/southport-art-fest-2023/
LOCATION:Southport Art Fest\, W. Waveland Ave. & N. Southport Ave.\, Chicago\, 60657\, United States
CATEGORIES:Art Fests
ATTACH;FMTTYPE=image/jpeg:https://jaimeelainecreative.com/wp-content/uploads/2022/07/JaimeArtFair-3-e1672962534984.jpg
END:VEVENT
END:VCALENDAR