BEGIN:VCALENDAR
VERSION:2.0
PRODID:-//The Jaime Elaine Creative - ECPv6.15.20//NONSGML v1.0//EN
CALSCALE:GREGORIAN
METHOD:PUBLISH
X-ORIGINAL-URL:https://jaimeelainecreative.com
X-WR-CALDESC:Events for The Jaime Elaine Creative
REFRESH-INTERVAL;VALUE=DURATION:PT1H
X-Robots-Tag:noindex
X-PUBLISHED-TTL:PT1H
BEGIN:VTIMEZONE
TZID:America/Chicago
BEGIN:DAYLIGHT
TZOFFSETFROM:-0600
TZOFFSETTO:-0500
TZNAME:CDT
DTSTART:20240310T080000
END:DAYLIGHT
BEGIN:STANDARD
TZOFFSETFROM:-0500
TZOFFSETTO:-0600
TZNAME:CST
DTSTART:20241103T070000
END:STANDARD
BEGIN:DAYLIGHT
TZOFFSETFROM:-0600
TZOFFSETTO:-0500
TZNAME:CDT
DTSTART:20250309T080000
END:DAYLIGHT
BEGIN:STANDARD
TZOFFSETFROM:-0500
TZOFFSETTO:-0600
TZNAME:CST
DTSTART:20251102T070000
END:STANDARD
BEGIN:DAYLIGHT
TZOFFSETFROM:-0600
TZOFFSETTO:-0500
TZNAME:CDT
DTSTART:20260308T080000
END:DAYLIGHT
BEGIN:STANDARD
TZOFFSETFROM:-0500
TZOFFSETTO:-0600
TZNAME:CST
DTSTART:20261101T070000
END:STANDARD
END:VTIMEZONE
BEGIN:VEVENT
DTSTART;TZID=America/Chicago:20250606T150000
DTEND;TZID=America/Chicago:20250607T170000
DTSTAMP:20260424T025726
CREATED:20250314T222316Z
LAST-MODIFIED:20250314T222316Z
UID:6514-1749222000-1749315600@jaimeelainecreative.com
SUMMARY:Kalamazoo Institute of the Arts Fair 2025
DESCRIPTION:I am thrilled to announce that I have been invited into the exclusive Kalamazoo Institute of the Arts Fair this June in Kalamazoo\, Michigan! That makes TWO Michigan shows this year\, and I cannot wait to bring my work to a brand new audience! \nDETAILS:\nFriday\, June 6th 3pm-8pm\nSaturday\, June 7th 9am-5pm \nThe 74th Annual Kalamazoo Institute of Arts Fair is a two-day juried art show featuring up to 135 fine artists. Staged in shady\, historic Bronson Park in downtown Kalamazoo\, this outdoor Arts Fair is acclaimed for its friendly atmosphere and large crowds of arts patrons from across Michigan\, Indiana\, and beyond.  The KIA Arts Fair also features live music\, food trucks\, family activities and artist demonstrations to draw visitors in. \nKalamazoo’s historic Bronson Park is located downtown\, adjacent to the Kalamazoo Institute of Arts and bordered by beautiful architecture. The park is used regularly as a place for community events\, rallies\, and concerts.
URL:https://jaimeelainecreative.com/event/kia-2025/
LOCATION:Kalamazoo\, Bronson Park\, 200 S Rose St.\, Kalamazoo\, MI\, 49007\, United States
CATEGORIES:Art Fests
ATTACH;FMTTYPE=image/webp:https://jaimeelainecreative.com/wp-content/uploads/2025/03/KIA-Arts-Fair-Block-Logo.webp
END:VEVENT
END:VCALENDAR