BEGIN:VCALENDAR
VERSION:2.0
PRODID:-//The Jaime Elaine Creative - ECPv6.15.20//NONSGML v1.0//EN
CALSCALE:GREGORIAN
METHOD:PUBLISH
X-ORIGINAL-URL:https://jaimeelainecreative.com
X-WR-CALDESC:Events for The Jaime Elaine Creative
REFRESH-INTERVAL;VALUE=DURATION:PT1H
X-Robots-Tag:noindex
X-PUBLISHED-TTL:PT1H
BEGIN:VTIMEZONE
TZID:America/Chicago
BEGIN:DAYLIGHT
TZOFFSETFROM:-0600
TZOFFSETTO:-0500
TZNAME:CDT
DTSTART:20250309T080000
END:DAYLIGHT
BEGIN:STANDARD
TZOFFSETFROM:-0500
TZOFFSETTO:-0600
TZNAME:CST
DTSTART:20251102T070000
END:STANDARD
BEGIN:DAYLIGHT
TZOFFSETFROM:-0600
TZOFFSETTO:-0500
TZNAME:CDT
DTSTART:20260308T080000
END:DAYLIGHT
BEGIN:STANDARD
TZOFFSETFROM:-0500
TZOFFSETTO:-0600
TZNAME:CST
DTSTART:20261101T070000
END:STANDARD
BEGIN:DAYLIGHT
TZOFFSETFROM:-0600
TZOFFSETTO:-0500
TZNAME:CDT
DTSTART:20270314T080000
END:DAYLIGHT
BEGIN:STANDARD
TZOFFSETFROM:-0500
TZOFFSETTO:-0600
TZNAME:CST
DTSTART:20271107T070000
END:STANDARD
END:VTIMEZONE
BEGIN:VEVENT
DTSTART;TZID=America/Chicago:20260620T100000
DTEND;TZID=America/Chicago:20260621T170000
DTSTAMP:20260423T140435
CREATED:20260325T002011Z
LAST-MODIFIED:20260325T002022Z
UID:7068-1781949600-1782061200@jaimeelainecreative.com
SUMMARY:Gold Coast Art Fair 2026
DESCRIPTION:Catch me in Downtown Chicago this summer for the Gold Coast Art Fair in Grant Park! \nEVENT DETAILS:\nSaturday\, June 20th  ·  10am-5pm\nSunday\, June 21st  ·  10am-5pm\nGrant Park’s Butler Field  ·  S Lake Shore Dr & E Monroe St\, Chicago\, IL 60601 \nFrom their website:\nThe “Granddaddy of American Art Festivals\,” the 68th Gold Coast Art Fair returns to Grant Park! The Gold Coast Art Fair is the 3rd oldest and one of the most well attended art fests in Chicago. Located within walking distance of the Art Institute\, The Bean and Buckingham Fountain\, Gold Coast Art Fair draws thousands of art enthusiasts from Chicago and the surrounding suburbs due to its heavy advertising program and reputation. Gold Coast Art Fair features about 250 artists in a lovely setting with both lake views and park vistas backed by the Chicago skyline.
URL:https://jaimeelainecreative.com/event/gold-coast-art-fair-2026/
LOCATION:Butler Field\, Grant Park\, S Lake Shore Dr & E Monroe St\, Chicago\, IL\, 60601\, United States
CATEGORIES:Art Fests
ATTACH;FMTTYPE=image/jpeg:https://jaimeelainecreative.com/wp-content/uploads/2026/03/13989.jpeg
END:VEVENT
END:VCALENDAR