BEGIN:VCALENDAR
VERSION:2.0
PRODID:-//The Jaime Elaine Creative - ECPv6.15.20//NONSGML v1.0//EN
CALSCALE:GREGORIAN
METHOD:PUBLISH
X-ORIGINAL-URL:https://jaimeelainecreative.com
X-WR-CALDESC:Events for The Jaime Elaine Creative
REFRESH-INTERVAL;VALUE=DURATION:PT1H
X-Robots-Tag:noindex
X-PUBLISHED-TTL:PT1H
BEGIN:VTIMEZONE
TZID:America/Chicago
BEGIN:DAYLIGHT
TZOFFSETFROM:-0600
TZOFFSETTO:-0500
TZNAME:CDT
DTSTART:20250309T080000
END:DAYLIGHT
BEGIN:STANDARD
TZOFFSETFROM:-0500
TZOFFSETTO:-0600
TZNAME:CST
DTSTART:20251102T070000
END:STANDARD
BEGIN:DAYLIGHT
TZOFFSETFROM:-0600
TZOFFSETTO:-0500
TZNAME:CDT
DTSTART:20260308T080000
END:DAYLIGHT
BEGIN:STANDARD
TZOFFSETFROM:-0500
TZOFFSETTO:-0600
TZNAME:CST
DTSTART:20261101T070000
END:STANDARD
BEGIN:DAYLIGHT
TZOFFSETFROM:-0600
TZOFFSETTO:-0500
TZNAME:CDT
DTSTART:20270314T080000
END:DAYLIGHT
BEGIN:STANDARD
TZOFFSETFROM:-0500
TZOFFSETTO:-0600
TZNAME:CST
DTSTART:20271107T070000
END:STANDARD
END:VTIMEZONE
BEGIN:VEVENT
DTSTART;TZID=America/Chicago:20260207T110000
DTEND;TZID=America/Chicago:20260207T150000
DTSTAMP:20260423T182738
CREATED:20260127T220023Z
LAST-MODIFIED:20260127T220023Z
UID:6849-1770462000-1770476400@jaimeelainecreative.com
SUMMARY:Valentine's Day Market
DESCRIPTION:Made in Chicago Valentine’s Day Market\n\nWhat:  I’ll be participating in this one day pop-up art market downtown at the iconic Harold Washington Library’s Winter Garden!  Put on by the Design Museum of Chicago and Chicago Public Libraries.\nWhen: Saturday\, February 7th – 11am-3pm\nWhere: Harold Washington Library – Winter Garden\nHow: It is free to attend\, no tickets needed. More info can be found here!
URL:https://jaimeelainecreative.com/event/valentines-day-market/
LOCATION:Harold Washington Library\, 400 S State St\, Chicago\, IL\, 60605\, United States
CATEGORIES:Art Fests
ATTACH;FMTTYPE=image/webp:https://jaimeelainecreative.com/wp-content/uploads/2026/01/ScreenShot2026-01-23at11.58.44PM.png.webp
END:VEVENT
END:VCALENDAR