BEGIN:VCALENDAR
VERSION:2.0
PRODID:-//The Jaime Elaine Creative - ECPv6.15.20//NONSGML v1.0//EN
CALSCALE:GREGORIAN
METHOD:PUBLISH
X-WR-CALNAME:The Jaime Elaine Creative
X-ORIGINAL-URL:https://jaimeelainecreative.com
X-WR-CALDESC:Events for The Jaime Elaine Creative
REFRESH-INTERVAL;VALUE=DURATION:PT1H
X-Robots-Tag:noindex
X-PUBLISHED-TTL:PT1H
BEGIN:VTIMEZONE
TZID:America/Chicago
BEGIN:DAYLIGHT
TZOFFSETFROM:-0600
TZOFFSETTO:-0500
TZNAME:CDT
DTSTART:20250309T080000
END:DAYLIGHT
BEGIN:STANDARD
TZOFFSETFROM:-0500
TZOFFSETTO:-0600
TZNAME:CST
DTSTART:20251102T070000
END:STANDARD
BEGIN:DAYLIGHT
TZOFFSETFROM:-0600
TZOFFSETTO:-0500
TZNAME:CDT
DTSTART:20260308T080000
END:DAYLIGHT
BEGIN:STANDARD
TZOFFSETFROM:-0500
TZOFFSETTO:-0600
TZNAME:CST
DTSTART:20261101T070000
END:STANDARD
BEGIN:DAYLIGHT
TZOFFSETFROM:-0600
TZOFFSETTO:-0500
TZNAME:CDT
DTSTART:20270314T080000
END:DAYLIGHT
BEGIN:STANDARD
TZOFFSETFROM:-0500
TZOFFSETTO:-0600
TZNAME:CST
DTSTART:20271107T070000
END:STANDARD
END:VTIMEZONE
BEGIN:VEVENT
DTSTART;TZID=America/Chicago:20260502T100000
DTEND;TZID=America/Chicago:20260503T170000
DTSTAMP:20260423T170341
CREATED:20260324T230450Z
LAST-MODIFIED:20260324T230517Z
UID:7050-1777716000-1777827600@jaimeelainecreative.com
SUMMARY:Tulip Time 2026
DESCRIPTION:This May\, I’m bring my tent and all my floral art to the floral event of the season… Tulip Time! This Market kicks off spring and my outdoor art festival season in the most on-brand way for me! I can’t wait to be even more surrounded by flowers than usual:) \nWHAT: Tulip Time Maker’s Market\nWHEN: Saturday\, May 2nd and Sunday\, May 3rd · 10:00am – 5:00pm both days\nWHERE: The Ottawa County Fair Grounds in Holland\, Michigan \nFrom their website: \nTulip Time Festival invites you to attend the 2026 Makers Market! The Tulip Time Makers Market hosts over 250 vendors and thousands of visitors. The Makers Market is a juried show; all artists display only handmade and original work. For 2026\, the show will be held at Ottawa County Fair Grounds. Food trucks on location for vendors and shoppers to enjoy!
URL:https://jaimeelainecreative.com/event/tulip-time-2026/
LOCATION:Ottawa County Fair Grounds\, 1286 Ottawa Beach Rd\, Holland\, Michigan\, 49424\, United States
CATEGORIES:Art Fests
ATTACH;FMTTYPE=image/jpeg:https://jaimeelainecreative.com/wp-content/uploads/2026/03/13537.jpeg
ORGANIZER;CN="Tulip Time Festival":MAILTO:artisanmarket@tuliptime.com
END:VEVENT
BEGIN:VEVENT
DTSTART;TZID=America/Chicago:20260510T100000
DTEND;TZID=America/Chicago:20260510T180000
DTSTAMP:20260423T170341
CREATED:20260324T231815Z
LAST-MODIFIED:20260324T231815Z
UID:7056-1778407200-1778436000@jaimeelainecreative.com
SUMMARY:Grand Rapids Downtown Market Mother's Day Gift Fair
DESCRIPTION:Join me in Grand Rapids this Mother’s Day to grab a gift for mom\, support many amazing artists at the same time\, AND help me celebrate my birthday* (on the 14th)  a little early! \nWHAT: Mother’s Day Gift Fair\nWHEN: Sunday\, May 10th · 10:00am-6:oopm\nWHERE: Grand Rapids Downtown Market · 435 Ionia Ave SW\, Grand Rapids\, MI \n*If you see this note before you visit me at this show\, wish me a happy early birthday for a surprise discount 😘 \n  \nFrom their website: \nCelebrate Mom at the Downtown Market! \nTreat Mom\, or any nurturing member of your family\, to a day full of joy at the Grand Rapids Downtown Market! Stroll through our outdoor Market Shed and grounds while discovering one-of-a-kind gifts from art and jewelry to candles\, clothing\, and home goods. \nSip on refreshing cocktails or mocktails at the outdoor bar while enjoying live entertainment (from 11:30am-5pm)\, and make the day even sweeter with breakfast\, lunch\, or dinner from our unique Market eateries. \nBring the whole family and create memories Mom will treasure! \n 
URL:https://jaimeelainecreative.com/event/grdm-mothers-day-gift-fair/
LOCATION:Grand Rapids Downtown Market\, 435 Ionia Ave SW\, Grand Rapids\, MI\, 49503\, United States
CATEGORIES:Art Fests
ATTACH;FMTTYPE=image/jpeg:https://jaimeelainecreative.com/wp-content/uploads/2026/03/14143.jpeg
END:VEVENT
BEGIN:VEVENT
DTSTART;TZID=America/Chicago:20260516T100000
DTEND;TZID=America/Chicago:20260517T170000
DTSTAMP:20260423T170341
CREATED:20260324T233757Z
LAST-MODIFIED:20260325T001415Z
UID:7059-1778925600-1779037200@jaimeelainecreative.com
SUMMARY:Lincoln Roscoe Art and Craft Fair
DESCRIPTION:Join me for my first local\, outdoor art show of 2026\, right in my own neck of the woods in Lakeview! I am excited to be participating in this show as an artist for the first time after visiting as a patron for many years! \nWHERE: On Lincoln Ave between Roscoe and School St in the Lakeview neighborhood of Chicago\nWHEN: Saturday\, May 16th · 10:00am-6:00pm\nSunday\, May 17th · 10:00am-5:00pm \n 
URL:https://jaimeelainecreative.com/event/lincoln-roscoe-art-fair/
LOCATION:Lincoln Roscoe\, 3357 N Lincoln Ave\, Chicago\, IL\, 60657\, United States
CATEGORIES:Art Fests
ATTACH;FMTTYPE=image/jpeg:https://jaimeelainecreative.com/wp-content/uploads/2026/03/Untitled-design-4.jpg
END:VEVENT
END:VCALENDAR