BEGIN:VCALENDAR
VERSION:2.0
PRODID:-//The Jaime Elaine Creative - ECPv6.15.20//NONSGML v1.0//EN
CALSCALE:GREGORIAN
METHOD:PUBLISH
X-ORIGINAL-URL:https://jaimeelainecreative.com
X-WR-CALDESC:Events for The Jaime Elaine Creative
REFRESH-INTERVAL;VALUE=DURATION:PT1H
X-Robots-Tag:noindex
X-PUBLISHED-TTL:PT1H
BEGIN:VTIMEZONE
TZID:America/Chicago
BEGIN:DAYLIGHT
TZOFFSETFROM:-0600
TZOFFSETTO:-0500
TZNAME:CDT
DTSTART:20220313T080000
END:DAYLIGHT
BEGIN:STANDARD
TZOFFSETFROM:-0500
TZOFFSETTO:-0600
TZNAME:CST
DTSTART:20221106T070000
END:STANDARD
BEGIN:DAYLIGHT
TZOFFSETFROM:-0600
TZOFFSETTO:-0500
TZNAME:CDT
DTSTART:20230312T080000
END:DAYLIGHT
BEGIN:STANDARD
TZOFFSETFROM:-0500
TZOFFSETTO:-0600
TZNAME:CST
DTSTART:20231105T070000
END:STANDARD
BEGIN:DAYLIGHT
TZOFFSETFROM:-0600
TZOFFSETTO:-0500
TZNAME:CDT
DTSTART:20240310T080000
END:DAYLIGHT
BEGIN:STANDARD
TZOFFSETFROM:-0500
TZOFFSETTO:-0600
TZNAME:CST
DTSTART:20241103T070000
END:STANDARD
END:VTIMEZONE
BEGIN:VEVENT
DTSTART;TZID=America/Chicago:20231207T100000
DTEND;TZID=America/Chicago:20231210T170000
DTSTAMP:20260425T083830
CREATED:20230122T181635Z
LAST-MODIFIED:20231018T193638Z
UID:4982-1701943200-1702227600@jaimeelainecreative.com
SUMMARY:One of a Kind Holiday Show 2023
DESCRIPTION:The Jaime Elaine Creative returns once again to the One of a Kind Holiday show at the Merchandise Mart! \nWe are so excited to be back at the OOAK Holiday Show this December in Downtown Chicago. The One of a Kind Show features over 500 artists from all over the country\, and Jaime is thrilled to be among this incredible lineup. This event is the perfect place to shop for holiday gifts for friends and family\, or to seek out unique and hand-crafted art to decorate your home! Jaime will have original acrylic paintings\, prints\, hand-painted earrings\, watercolor cards\, and more. \nStop by and find us at booth #2070. And read on for some special promos from TJEC for those of you visiting the Show! \nShow dates:\nThursday\, December 7th from 10am-7pm\nFriday\, December 8th from 10am-7pm\nSaturday\, December 9th from 10am-7pm\nSunday\, December 10th from 10am-5pm \nTickets:\nTickets are typically $15\, but for a free admission code\, email hello@jaimeelainecreative.com and I will send you the link! Each ticket will get you into all 4 days of the show! No need to buy multiple tickets if you want to come more than once. \nSPECIAL PROMO: If you are interested in booking Jaime for a live wedding painting\, be sure to stop by this festival! I will be offering $150 off live event painting packages to attendees of the OOAK show. To receive this offer\,  come by my booth in person and mention this promo. I will have a limited number of unique promo coupons to hand out during the festival! \n  \nSee my info on the OOAK website here: https://oneofakindshowchicago.com/holiday/artists/the-jaime-elaine-creative-llc
URL:https://jaimeelainecreative.com/event/ooak2023/
LOCATION:The Mart\, 222 W Merchandise Mart Plaza\, Chicago\, IL\, 60654\, United States
CATEGORIES:Art Fests
ATTACH;FMTTYPE=image/jpeg:https://jaimeelainecreative.com/wp-content/uploads/2023/01/IMG_6049-scaled-1.jpeg
END:VEVENT
END:VCALENDAR