BEGIN:VCALENDAR
VERSION:2.0
PRODID:-//The Jaime Elaine Creative - ECPv6.15.20//NONSGML v1.0//EN
CALSCALE:GREGORIAN
METHOD:PUBLISH
X-ORIGINAL-URL:https://jaimeelainecreative.com
X-WR-CALDESC:Events for The Jaime Elaine Creative
REFRESH-INTERVAL;VALUE=DURATION:PT1H
X-Robots-Tag:noindex
X-PUBLISHED-TTL:PT1H
BEGIN:VTIMEZONE
TZID:America/Chicago
BEGIN:DAYLIGHT
TZOFFSETFROM:-0600
TZOFFSETTO:-0500
TZNAME:CDT
DTSTART:20230312T080000
END:DAYLIGHT
BEGIN:STANDARD
TZOFFSETFROM:-0500
TZOFFSETTO:-0600
TZNAME:CST
DTSTART:20231105T070000
END:STANDARD
BEGIN:DAYLIGHT
TZOFFSETFROM:-0600
TZOFFSETTO:-0500
TZNAME:CDT
DTSTART:20240310T080000
END:DAYLIGHT
BEGIN:STANDARD
TZOFFSETFROM:-0500
TZOFFSETTO:-0600
TZNAME:CST
DTSTART:20241103T070000
END:STANDARD
BEGIN:DAYLIGHT
TZOFFSETFROM:-0600
TZOFFSETTO:-0500
TZNAME:CDT
DTSTART:20250309T080000
END:DAYLIGHT
BEGIN:STANDARD
TZOFFSETFROM:-0500
TZOFFSETTO:-0600
TZNAME:CST
DTSTART:20251102T070000
END:STANDARD
END:VTIMEZONE
BEGIN:VEVENT
DTSTART;TZID=America/Chicago:20240914T110000
DTEND;TZID=America/Chicago:20240915T180000
DTSTAMP:20260424T191255
CREATED:20240508T193811Z
LAST-MODIFIED:20240508T212735Z
UID:5787-1726311600-1726423200@jaimeelainecreative.com
SUMMARY:Ravenswood ArtWalk 2024
DESCRIPTION:Jaime is excited to wrap up the Summer Art Show Season with the Ravenswood Art Walk this September! \nJoin us September 13th-14th to check out one of Chicago’s quaint north side neighborhoods and a festival that extends not only to the tents lining the street\, but also to the local arts storefronts which are dense in this neighborhood! \nEvent Details:\nSaturday\, September 13th ・ 11am-6pm\nSunday\,  September 14th ・ 11am-6pm\nRavenswood Industrial Corridor\, Lawrence to Irving Park Rd \nFrom their website: \n“The Ravenswood ArtWalk (RAW) Tour of Arts and Industry is a weekend-long celebration of our local creative community. Stretching from Lawrence south to Irving Park along Ravenswood Ave\, RAW features: open studios and galleries\, pop-up performances and activations\, and an outdoor arts market featuring 60+ local makers\, two stages of live music\, a pop-up beer garden\, kids activities\, food trucks\, and more.”
URL:https://jaimeelainecreative.com/event/ravenswood-artwalk-2024/
LOCATION:Ravenswood Art Walk\, N Ravenswood Ave and W Berteau Ave\, Chicago\, IL\, 60613\, United States
CATEGORIES:Art Fests
ATTACH;FMTTYPE=image/png:https://jaimeelainecreative.com/wp-content/uploads/2024/05/GRCC-RAW-2022-1.png
END:VEVENT
END:VCALENDAR