BEGIN:VCALENDAR
VERSION:2.0
PRODID:-//The Jaime Elaine Creative - ECPv6.15.20//NONSGML v1.0//EN
CALSCALE:GREGORIAN
METHOD:PUBLISH
X-ORIGINAL-URL:https://jaimeelainecreative.com
X-WR-CALDESC:Events for The Jaime Elaine Creative
REFRESH-INTERVAL;VALUE=DURATION:PT1H
X-Robots-Tag:noindex
X-PUBLISHED-TTL:PT1H
BEGIN:VTIMEZONE
TZID:America/Chicago
BEGIN:DAYLIGHT
TZOFFSETFROM:-0600
TZOFFSETTO:-0500
TZNAME:CDT
DTSTART:20210314T080000
END:DAYLIGHT
BEGIN:STANDARD
TZOFFSETFROM:-0500
TZOFFSETTO:-0600
TZNAME:CST
DTSTART:20211107T070000
END:STANDARD
BEGIN:DAYLIGHT
TZOFFSETFROM:-0600
TZOFFSETTO:-0500
TZNAME:CDT
DTSTART:20220313T080000
END:DAYLIGHT
BEGIN:STANDARD
TZOFFSETFROM:-0500
TZOFFSETTO:-0600
TZNAME:CST
DTSTART:20221106T070000
END:STANDARD
BEGIN:DAYLIGHT
TZOFFSETFROM:-0600
TZOFFSETTO:-0500
TZNAME:CDT
DTSTART:20230312T080000
END:DAYLIGHT
BEGIN:STANDARD
TZOFFSETFROM:-0500
TZOFFSETTO:-0600
TZNAME:CST
DTSTART:20231105T070000
END:STANDARD
BEGIN:DAYLIGHT
TZOFFSETFROM:-0600
TZOFFSETTO:-0500
TZNAME:CDT
DTSTART:20240310T080000
END:DAYLIGHT
BEGIN:STANDARD
TZOFFSETFROM:-0500
TZOFFSETTO:-0600
TZNAME:CST
DTSTART:20241103T070000
END:STANDARD
BEGIN:DAYLIGHT
TZOFFSETFROM:-0600
TZOFFSETTO:-0500
TZNAME:CDT
DTSTART:20250309T080000
END:DAYLIGHT
BEGIN:STANDARD
TZOFFSETFROM:-0500
TZOFFSETTO:-0600
TZNAME:CST
DTSTART:20251102T070000
END:STANDARD
BEGIN:DAYLIGHT
TZOFFSETFROM:-0600
TZOFFSETTO:-0500
TZNAME:CDT
DTSTART:20260308T080000
END:DAYLIGHT
BEGIN:STANDARD
TZOFFSETFROM:-0500
TZOFFSETTO:-0600
TZNAME:CST
DTSTART:20261101T070000
END:STANDARD
BEGIN:DAYLIGHT
TZOFFSETFROM:-0600
TZOFFSETTO:-0500
TZNAME:CDT
DTSTART:20270314T080000
END:DAYLIGHT
BEGIN:STANDARD
TZOFFSETFROM:-0500
TZOFFSETTO:-0600
TZNAME:CST
DTSTART:20271107T070000
END:STANDARD
END:VTIMEZONE
BEGIN:VEVENT
DTSTART;TZID=America/Chicago:20260301T100000
DTEND;TZID=America/Chicago:20260301T180000
DTSTAMP:20260423T150713
CREATED:20260127T221510Z
LAST-MODIFIED:20260127T221642Z
UID:6869-1772359200-1772388000@jaimeelainecreative.com
SUMMARY:Grand Rapids Market
DESCRIPTION:Art Print and Patter Pop Up \nWhen: Sunday\, March 1st · 10am-6pm\nWhere: Grand Rapids Downtown Market · 435 Ionia Ave SW\, Grand Rapids MI 49503 \n 
URL:https://jaimeelainecreative.com/event/grand-rapids-market/
LOCATION:Grand Rapids Downtown Market\, 435 Ionia Ave SW\, Grand Rapids\, MI\, 49503\, United States
CATEGORIES:Art Fests
ATTACH;FMTTYPE=image/jpeg:https://jaimeelainecreative.com/wp-content/uploads/2026/01/14140.jpeg
END:VEVENT
BEGIN:VEVENT
DTSTART;TZID=America/Chicago:20260207T110000
DTEND;TZID=America/Chicago:20260207T150000
DTSTAMP:20260423T150713
CREATED:20260127T220023Z
LAST-MODIFIED:20260127T220023Z
UID:6849-1770462000-1770476400@jaimeelainecreative.com
SUMMARY:Valentine's Day Market
DESCRIPTION:Made in Chicago Valentine’s Day Market\n\nWhat:  I’ll be participating in this one day pop-up art market downtown at the iconic Harold Washington Library’s Winter Garden!  Put on by the Design Museum of Chicago and Chicago Public Libraries.\nWhen: Saturday\, February 7th – 11am-3pm\nWhere: Harold Washington Library – Winter Garden\nHow: It is free to attend\, no tickets needed. More info can be found here!
URL:https://jaimeelainecreative.com/event/valentines-day-market/
LOCATION:Harold Washington Library\, 400 S State St\, Chicago\, IL\, 60605\, United States
CATEGORIES:Art Fests
ATTACH;FMTTYPE=image/webp:https://jaimeelainecreative.com/wp-content/uploads/2026/01/ScreenShot2026-01-23at11.58.44PM.png.webp
END:VEVENT
BEGIN:VEVENT
DTSTART;TZID=America/Chicago:20250906T100000
DTEND;TZID=America/Chicago:20250907T170000
DTSTAMP:20260423T150713
CREATED:20250717T183416Z
LAST-MODIFIED:20250717T183416Z
UID:6652-1757152800-1757264400@jaimeelainecreative.com
SUMMARY:Downers Grove Fine Arts Festival
DESCRIPTION:Early this fall\, I’ll be heading out to the Chicago Suburbs for the Downer’s Grove Fine Arts Festival! \nDETAILS:\nSeptember 6th and 7th · 10am-5pm both days\nDowntown Downers Grove in the middle of Main Street \nFrom their website:\nThe Downers Grove Fine Arts Festival will be celebrating 48 years this fall. The festival is held in the middle of award-winning\, historic\, Downtown Downers Grove which is located 22 miles from Chicago’s loop.  Direct access to the BNSF rail line brings patrons from around the region and the City of Chicago to the festival.  The festival is currently scheduled to be held in the middle of Main Street. Live music\, boutiques\, cafes and a children’s art area will complement the high caliber of art that will be present at the show. The show is a community favorite and will be open from 10am-5pm on Saturday and Sunday. In addition\, enjoy our boutiques\, cafes and a children’s art area that will complement the high caliber of art that will be present at the show.
URL:https://jaimeelainecreative.com/event/downers-grove-2025/
LOCATION:Downers Grove\, Downers grove\, Illinois
CATEGORIES:Art Fests
ATTACH;FMTTYPE=image/jpeg:https://jaimeelainecreative.com/wp-content/uploads/2025/07/DG-FineArtsFest-768x613-1.jpg
END:VEVENT
BEGIN:VEVENT
DTSTART;TZID=America/Chicago:20250809T100000
DTEND;TZID=America/Chicago:20250810T170000
DTSTAMP:20260423T150713
CREATED:20250423T233140Z
LAST-MODIFIED:20250424T035317Z
UID:6612-1754733600-1754845200@jaimeelainecreative.com
SUMMARY:Printer's Row Art Fest
DESCRIPTION:Find me this August at the Printer’s Row Art Fest! \nDETAILS:\nDate: August 9th-10th\nTime: 10am to 5pm both days\nLocation: On Dearborn from Polk to Harrison \n728 S Dearborn St\, Chicago\, IL 60605 \nFrom their website: \nChicago’s historic Printer’s Row neighborhood sets the stage for one of the city’s most vibrant and exciting art festivals! Now in its sixth year\, the Printer’s Row Art Fest brings together 95 talented juried artists from across the country\, showcasing an incredible variety of artwork—including paintings\, street art\, jewelry\, photography\, sculpture\, woodworking\, and more. \nEnjoy fantastic art\, live music\, personalized poems\, and nearby restaurants\, cafés\, and bars to keep you fueled as you shop and stroll.
URL:https://jaimeelainecreative.com/event/printers-row-2025/
LOCATION:Printer’s Row\, 728 S Dearborn St\, Chicago\, Illinois\, 60605\, United States
CATEGORIES:Art Fests
ATTACH;FMTTYPE=image/jpeg:https://jaimeelainecreative.com/wp-content/uploads/2025/04/12862.jpeg
END:VEVENT
BEGIN:VEVENT
DTSTART;TZID=America/Chicago:20250726T100000
DTEND;TZID=America/Chicago:20250726T170000
DTSTAMP:20260423T150713
CREATED:20250314T225828Z
LAST-MODIFIED:20250314T225828Z
UID:6530-1753524000-1753549200@jaimeelainecreative.com
SUMMARY:Saugatuck Village Square Art Fair 2025
DESCRIPTION:For my third year in a row\, I will be vending at the Saugatuck Village Square Art Fair! I am thrilled to be back for this summer weekend\, and I hope to see you there! \nDETAILS\nSaturday\, July 26th 10am-5pm\nVillage Square in Downtown Saugatuck \nCoinciding with the Saugatuck Venetian Festival\, this art show is the perfect daytime activity to round out a weekend of summer loving’!
URL:https://jaimeelainecreative.com/event/saugatuck-2025/
LOCATION:Saugatuck Village Square\, 428 Butler Street\, Saugatuck\, MI\, 49453\, United States
CATEGORIES:Art Fests
ATTACH;FMTTYPE=image/png:https://jaimeelainecreative.com/wp-content/uploads/2025/03/sdac-final-logo.png
END:VEVENT
BEGIN:VEVENT
DTSTART;TZID=America/Chicago:20250712T100000
DTEND;TZID=America/Chicago:20250713T190000
DTSTAMP:20260423T150713
CREATED:20250314T225119Z
LAST-MODIFIED:20250314T225119Z
UID:6527-1752314400-1752433200@jaimeelainecreative.com
SUMMARY:Southport Art Fest 2025
DESCRIPTION:I’m back\, Southport! \nFor the fourth year in a row\, I will be a vendor at the Southport Art Fest – my own neighborhood show! I can’t wait to share my art with you all again this year. I hope to see many familiar faces and meet lots of new friends too! \nDETAILS:\nSaturday\, July 12th\nSunday\, July 13th\nLocated on Southport Ave\, between Grace and Waveland \n 
URL:https://jaimeelainecreative.com/event/southport-art-fest-2025/
LOCATION:Southport Art Fest\, W. Waveland Ave. & N. Southport Ave.\, Chicago\, 60657\, United States
CATEGORIES:Art Fests
ATTACH;FMTTYPE=image/jpeg:https://jaimeelainecreative.com/wp-content/uploads/2025/03/13346.jpeg
END:VEVENT
BEGIN:VEVENT
DTSTART;TZID=America/Chicago:20250614T100000
DTEND;TZID=America/Chicago:20250615T210000
DTSTAMP:20260423T150713
CREATED:20250314T224032Z
LAST-MODIFIED:20250314T224032Z
UID:6522-1749895200-1750021200@jaimeelainecreative.com
SUMMARY:Wells Street Art Festival 2025
DESCRIPTION:The Wells Street Art Festival has long been one of my absolute favorite festivals to attend as a patron in Chicago\, so I am thrilled to announce that this summer I will be a vendor at this iconic art and music show! This will be the show’s 50th year\, and I am thrilled to be included in this milestone show in the Old Town Neighborhood of Chicago! \nDETAILS:\nSaturday\, June 14th 10am-10pm\nSunday\, June 15th 10am-9pm\nLocated on Wells Street in Old Town\, between North Avenue and Division. \n  \nThe Wells Street Arts Festival is celebrating its 50th year in 2025!\nThe Wells Street Arts Festival in Chicago’s Old Town neighborhood has a rich and vibrant history. It is one of the most prestigious Arts Fairs in the US and continuously ranked in Sunshine Artist’s Top 100 Fine Arts Fairs. This juried event features the work of 200 national exhibitors and is attended by more than 40\,000 art enthusiasts.
URL:https://jaimeelainecreative.com/event/wells-street-art-festival-2025/
LOCATION:Wells Street Art Festival\, Wells Street\, Chicago\, IL\, United States
CATEGORIES:Art Fests
ATTACH;FMTTYPE=image/jpeg:https://jaimeelainecreative.com/wp-content/uploads/2025/03/Image.jpg
END:VEVENT
BEGIN:VEVENT
DTSTART;TZID=America/Chicago:20250606T150000
DTEND;TZID=America/Chicago:20250607T170000
DTSTAMP:20260423T150713
CREATED:20250314T222316Z
LAST-MODIFIED:20250314T222316Z
UID:6514-1749222000-1749315600@jaimeelainecreative.com
SUMMARY:Kalamazoo Institute of the Arts Fair 2025
DESCRIPTION:I am thrilled to announce that I have been invited into the exclusive Kalamazoo Institute of the Arts Fair this June in Kalamazoo\, Michigan! That makes TWO Michigan shows this year\, and I cannot wait to bring my work to a brand new audience! \nDETAILS:\nFriday\, June 6th 3pm-8pm\nSaturday\, June 7th 9am-5pm \nThe 74th Annual Kalamazoo Institute of Arts Fair is a two-day juried art show featuring up to 135 fine artists. Staged in shady\, historic Bronson Park in downtown Kalamazoo\, this outdoor Arts Fair is acclaimed for its friendly atmosphere and large crowds of arts patrons from across Michigan\, Indiana\, and beyond.  The KIA Arts Fair also features live music\, food trucks\, family activities and artist demonstrations to draw visitors in. \nKalamazoo’s historic Bronson Park is located downtown\, adjacent to the Kalamazoo Institute of Arts and bordered by beautiful architecture. The park is used regularly as a place for community events\, rallies\, and concerts.
URL:https://jaimeelainecreative.com/event/kia-2025/
LOCATION:Kalamazoo\, Bronson Park\, 200 S Rose St.\, Kalamazoo\, MI\, 49007\, United States
CATEGORIES:Art Fests
ATTACH;FMTTYPE=image/webp:https://jaimeelainecreative.com/wp-content/uploads/2025/03/KIA-Arts-Fair-Block-Logo.webp
END:VEVENT
BEGIN:VEVENT
DTSTART;TZID=America/Chicago:20250531T110000
DTEND;TZID=America/Chicago:20250601T170000
DTSTAMP:20260423T150713
CREATED:20250422T001614Z
LAST-MODIFIED:20250422T002130Z
UID:6606-1748689200-1748797200@jaimeelainecreative.com
SUMMARY:Art in the Village with Craft Marketplace - Cleveland\, OH
DESCRIPTION:To all my Ohio friends\, family\, and collectors… I’m officially participating in an art show in my home state! I’m thrilled to be a vendor at Legacy Village’s 34th Annual Howard Alan Art in the Village art show! Located in the Beachwood-Lyndhurst suburb of Cleveland\, this art show closes out May and ushers in June with a flare! \nWHEN:\nSaturday\, May 31st · 11am-6pm\nSunday\, June 1st · 11am-5pm \nWHERE:\nLegacy Village\, Cleveland\, OH \nNo admission fee to attend \nFrom the show listing:\nWe return to the fabulous downtown streets of Legacy Village in Ohio to put on one of our greatest and longest running shows of the season.  Shutting down the streets to create an exclusive art experience\, we bring 100 of the country’s leading artists and fine crafters to the affluent Cleveland suburb Lyndhurst-Beachwood. Legacy Village provides the perfect ambience for our art festival by providing a venue already established with fine dining\, designer boutiques\, and upscale retail stores along its streets.
URL:https://jaimeelainecreative.com/event/legacy-village-2025/
LOCATION:Legacy Village\, 25001 Cedar Rd\, Lyndhurst\, OH\, 44124\, United States
CATEGORIES:Art Fests
ATTACH;FMTTYPE=image/jpeg:https://jaimeelainecreative.com/wp-content/uploads/2025/04/12732.jpeg
END:VEVENT
BEGIN:VEVENT
DTSTART;TZID=America/Chicago:20240914T110000
DTEND;TZID=America/Chicago:20240915T180000
DTSTAMP:20260423T150713
CREATED:20240508T193811Z
LAST-MODIFIED:20240508T212735Z
UID:5787-1726311600-1726423200@jaimeelainecreative.com
SUMMARY:Ravenswood ArtWalk 2024
DESCRIPTION:Jaime is excited to wrap up the Summer Art Show Season with the Ravenswood Art Walk this September! \nJoin us September 13th-14th to check out one of Chicago’s quaint north side neighborhoods and a festival that extends not only to the tents lining the street\, but also to the local arts storefronts which are dense in this neighborhood! \nEvent Details:\nSaturday\, September 13th ・ 11am-6pm\nSunday\,  September 14th ・ 11am-6pm\nRavenswood Industrial Corridor\, Lawrence to Irving Park Rd \nFrom their website: \n“The Ravenswood ArtWalk (RAW) Tour of Arts and Industry is a weekend-long celebration of our local creative community. Stretching from Lawrence south to Irving Park along Ravenswood Ave\, RAW features: open studios and galleries\, pop-up performances and activations\, and an outdoor arts market featuring 60+ local makers\, two stages of live music\, a pop-up beer garden\, kids activities\, food trucks\, and more.”
URL:https://jaimeelainecreative.com/event/ravenswood-artwalk-2024/
LOCATION:Ravenswood Art Walk\, N Ravenswood Ave and W Berteau Ave\, Chicago\, IL\, 60613\, United States
CATEGORIES:Art Fests
ATTACH;FMTTYPE=image/png:https://jaimeelainecreative.com/wp-content/uploads/2024/05/GRCC-RAW-2022-1.png
END:VEVENT
BEGIN:VEVENT
DTSTART;TZID=America/Chicago:20240517T170000
DTEND;TZID=America/Chicago:20240519T210000
DTSTAMP:20260423T150713
CREATED:20240301T232728Z
LAST-MODIFIED:20240301T232728Z
UID:5711-1715965200-1716152400@jaimeelainecreative.com
SUMMARY:Armitage Art Show 2024
DESCRIPTION:The Jaime Elaine Creative is excited to kick off the 2024 Art Fest Season with The Armitage Art Show at Mayfest! \nJoin us from May 17th-19th in Lincoln Park to enjoy lots of Music\, food\, and art! \nEvent Details:\nLocated at Armitage and Sheffield in the Lincoln Park neighborhood of Chicago\nFriday\, May 17th 5pm-10pm\nSaturday May 18th 12pm-10pm\nSunday\, May 19th 12pm-9pm\nSpecific booth location information TBA \nFrom the event website: \nChicago Mayfest kicks off the summer festival season on May 17th through the 19th! Located in the Historic District of Lincoln Park at Armitage & Sheffield\, this incredible event benefits the Ranch Triangle Community Conservation Association. Join us this year as we celebrate our 27th Season.  \nTwo stages will showcase Chicago’s most acclaimed musicians while festival goers enjoy a variety of delicious food and all the libations needed to light up your weekend. You won’t want to miss this celebration of the sights\, sounds and tastes of Chicago’s glorious Summer Season. Now with the Armitage Art Show in the heart of the festival\, you’ll get to experience Chicago’s top artists as they showcase and sell their work. Now with interactive art demonstrations!
URL:https://jaimeelainecreative.com/event/armitage-art-show-2024/
LOCATION:Mayfest\, 1000 W Armitage Ave\, Chicago\, United States
CATEGORIES:Art Fests
ATTACH;FMTTYPE=image/jpeg:https://jaimeelainecreative.com/wp-content/uploads/2024/03/MayfestTemplate1.New_-683x1024@2x.jpg
END:VEVENT
BEGIN:VEVENT
DTSTART;TZID=America/Chicago:20231207T100000
DTEND;TZID=America/Chicago:20231210T170000
DTSTAMP:20260423T150713
CREATED:20230122T181635Z
LAST-MODIFIED:20231018T193638Z
UID:4982-1701943200-1702227600@jaimeelainecreative.com
SUMMARY:One of a Kind Holiday Show 2023
DESCRIPTION:The Jaime Elaine Creative returns once again to the One of a Kind Holiday show at the Merchandise Mart! \nWe are so excited to be back at the OOAK Holiday Show this December in Downtown Chicago. The One of a Kind Show features over 500 artists from all over the country\, and Jaime is thrilled to be among this incredible lineup. This event is the perfect place to shop for holiday gifts for friends and family\, or to seek out unique and hand-crafted art to decorate your home! Jaime will have original acrylic paintings\, prints\, hand-painted earrings\, watercolor cards\, and more. \nStop by and find us at booth #2070. And read on for some special promos from TJEC for those of you visiting the Show! \nShow dates:\nThursday\, December 7th from 10am-7pm\nFriday\, December 8th from 10am-7pm\nSaturday\, December 9th from 10am-7pm\nSunday\, December 10th from 10am-5pm \nTickets:\nTickets are typically $15\, but for a free admission code\, email hello@jaimeelainecreative.com and I will send you the link! Each ticket will get you into all 4 days of the show! No need to buy multiple tickets if you want to come more than once. \nSPECIAL PROMO: If you are interested in booking Jaime for a live wedding painting\, be sure to stop by this festival! I will be offering $150 off live event painting packages to attendees of the OOAK show. To receive this offer\,  come by my booth in person and mention this promo. I will have a limited number of unique promo coupons to hand out during the festival! \n  \nSee my info on the OOAK website here: https://oneofakindshowchicago.com/holiday/artists/the-jaime-elaine-creative-llc
URL:https://jaimeelainecreative.com/event/ooak2023/
LOCATION:The Mart\, 222 W Merchandise Mart Plaza\, Chicago\, IL\, 60654\, United States
CATEGORIES:Art Fests
ATTACH;FMTTYPE=image/jpeg:https://jaimeelainecreative.com/wp-content/uploads/2023/01/IMG_6049-scaled-1.jpeg
END:VEVENT
BEGIN:VEVENT
DTSTART;TZID=America/Chicago:20230729T100000
DTEND;TZID=America/Chicago:20230729T170000
DTSTAMP:20260423T150713
CREATED:20230701T045215Z
LAST-MODIFIED:20230701T045215Z
UID:5066-1690624800-1690650000@jaimeelainecreative.com
SUMMARY:Saugatuck Village Square Art Fair
DESCRIPTION:The Jaime Elaine Creative is participating in their first ever out-of-state art festival this month in Saugatuck\, MI! \nThe Village Square Arts and Crafts Art Fair takes place On July 29th in Saugatuck\, Michigan. This festival is one day only\, so if you are in the area\, mark your calendars and be sure to stop by! \nThe fair runs from 10am – 5pm rain or shine!
URL:https://jaimeelainecreative.com/event/saugatuck-village-square-art-fair/
LOCATION:Saugatuck Village Square\, 428 Butler Street\, Saugatuck\, MI\, 49453\, United States
CATEGORIES:Art Fests
ATTACH;FMTTYPE=image/jpeg:https://jaimeelainecreative.com/wp-content/uploads/2023/01/IMG_7954-scaled.jpeg
END:VEVENT
BEGIN:VEVENT
DTSTART;TZID=America/Chicago:20230708T100000
DTEND;TZID=America/Chicago:20230709T190000
DTSTAMP:20260423T150713
CREATED:20230701T044333Z
LAST-MODIFIED:20230701T044333Z
UID:5064-1688810400-1688929200@jaimeelainecreative.com
SUMMARY:Southport Art Fest 2023
DESCRIPTION:The Jaime Elaine Creative will have a booth again this year at the Southport Art Fest! \n  \nThis festival was Jaime’s very first art festival ever last year\, and she is absolutely thrilled to be back again this year! The festival takes place July 8-9 on Southport between Byron and Waveband. If you visited last year\, Jaime’s booth will be in the same location\, just north of the Dairy Queen! \n  \nThe festival is free to attend. It runs from 10am-9pm on Saturday and from 10am-7pm on Sunday! \n  \nStop by and say hi!
URL:https://jaimeelainecreative.com/event/southport-art-fest-2023/
LOCATION:Southport Art Fest\, W. Waveland Ave. & N. Southport Ave.\, Chicago\, 60657\, United States
CATEGORIES:Art Fests
ATTACH;FMTTYPE=image/jpeg:https://jaimeelainecreative.com/wp-content/uploads/2022/07/JaimeArtFair-3-e1672962534984.jpg
END:VEVENT
BEGIN:VEVENT
DTSTART;TZID=America/Chicago:20220709T100000
DTEND;TZID=America/Chicago:20220710T190000
DTSTAMP:20260423T150713
CREATED:20220608T024039Z
LAST-MODIFIED:20220608T024039Z
UID:2955-1657360800-1657479600@jaimeelainecreative.com
SUMMARY:The Jaime Elaine Creative at Southport Art Fest
DESCRIPTION:For the first time ever\, you can find The Jaime Elaine Creative at the Southport Art Fest! Visit our booth to find plenty of acrylic and watercolor originals\, hand-painted floral earrings\, watercolor greeting cards\, original stickers\, and prints of some of Jaime’s favorite pieces for sale! There will even be a color-your-own-sticker table!  \n  \nThis fest runs Saturday July 9th to Sunday July 10th from 10am-7pm both days!
URL:https://jaimeelainecreative.com/event/southport-art-fest/
LOCATION:Southport Art Fest\, W. Waveland Ave. & N. Southport Ave.\, Chicago\, 60657\, United States
CATEGORIES:Art Fests
ATTACH;FMTTYPE=image/jpeg:https://jaimeelainecreative.com/wp-content/uploads/2022/06/IMG_6310-1.jpeg
ORGANIZER;CN="The Jaime Elaine Creative":MAILTO:hello@jaimeelainecreative.com
END:VEVENT
END:VCALENDAR