BEGIN:VCALENDAR
VERSION:2.0
PRODID:-//The Jaime Elaine Creative - ECPv6.15.20//NONSGML v1.0//EN
CALSCALE:GREGORIAN
METHOD:PUBLISH
X-ORIGINAL-URL:https://jaimeelainecreative.com
X-WR-CALDESC:Events for The Jaime Elaine Creative
REFRESH-INTERVAL;VALUE=DURATION:PT1H
X-Robots-Tag:noindex
X-PUBLISHED-TTL:PT1H
BEGIN:VTIMEZONE
TZID:America/Chicago
BEGIN:DAYLIGHT
TZOFFSETFROM:-0600
TZOFFSETTO:-0500
TZNAME:CDT
DTSTART:20250309T080000
END:DAYLIGHT
BEGIN:STANDARD
TZOFFSETFROM:-0500
TZOFFSETTO:-0600
TZNAME:CST
DTSTART:20251102T070000
END:STANDARD
BEGIN:DAYLIGHT
TZOFFSETFROM:-0600
TZOFFSETTO:-0500
TZNAME:CDT
DTSTART:20260308T080000
END:DAYLIGHT
BEGIN:STANDARD
TZOFFSETFROM:-0500
TZOFFSETTO:-0600
TZNAME:CST
DTSTART:20261101T070000
END:STANDARD
BEGIN:DAYLIGHT
TZOFFSETFROM:-0600
TZOFFSETTO:-0500
TZNAME:CDT
DTSTART:20270314T080000
END:DAYLIGHT
BEGIN:STANDARD
TZOFFSETFROM:-0500
TZOFFSETTO:-0600
TZNAME:CST
DTSTART:20271107T070000
END:STANDARD
END:VTIMEZONE
BEGIN:VEVENT
DTSTART;TZID=America/Chicago:20260411T120000
DTEND;TZID=America/Chicago:20260411T170000
DTSTAMP:20260423T124143
CREATED:20260324T225203Z
LAST-MODIFIED:20260324T225203Z
UID:7046-1775908800-1775926800@jaimeelainecreative.com
SUMMARY:Andersonville Galleria Pop Up
DESCRIPTION:I am thrilled to have the opportunity to pop up at Andersonville’s Galleria on Saturday\, April 11th. This amazing shop houses over 100 artists under one roof\, and it is a spot near and dear to my heart. When I was in college at Loyola\, the Galleria was one of my favorite places to take friends and family when they’d visit! I never imagined that I might some day showcase my art in this space! So I am thrilled to be a featured artist for a Saturday in April\, and stay tuned as I am hoping to have a permanent space on their floor soon too!! \nWHEN: Saturday\, April 11th · 12pm-5pm\nWHERE: Andersonville Galleria · 5247 N Clark St. Chicago \nAs a pop up vendor\, I will be on site for the duration of the event\, so stop by and say hi! I will be showcasing mostly my minis\, watercolors\, and prints\, but may have one or two larger paintings with me as well! And you may even catch me painting live during the day\, too:)
URL:https://jaimeelainecreative.com/event/andersonville-galleria-pop-up/
LOCATION:Andersonville Galleria\, 5247 N Clark St.\, Chicago\, Illinois\, 60640\, United States
CATEGORIES:Galleries
ATTACH;FMTTYPE=image/avif:https://jaimeelainecreative.com/wp-content/uploads/2026/03/galleria_facade.jpg.avif
END:VEVENT
END:VCALENDAR