BEGIN:VCALENDAR
VERSION:2.0
PRODID:-//The Jaime Elaine Creative - ECPv6.15.20//NONSGML v1.0//EN
CALSCALE:GREGORIAN
METHOD:PUBLISH
X-WR-CALNAME:The Jaime Elaine Creative
X-ORIGINAL-URL:https://jaimeelainecreative.com
X-WR-CALDESC:Events for The Jaime Elaine Creative
REFRESH-INTERVAL;VALUE=DURATION:PT1H
X-Robots-Tag:noindex
X-PUBLISHED-TTL:PT1H
BEGIN:VTIMEZONE
TZID:America/Chicago
BEGIN:DAYLIGHT
TZOFFSETFROM:-0600
TZOFFSETTO:-0500
TZNAME:CDT
DTSTART:20200308T080000
END:DAYLIGHT
BEGIN:STANDARD
TZOFFSETFROM:-0500
TZOFFSETTO:-0600
TZNAME:CST
DTSTART:20201101T070000
END:STANDARD
BEGIN:DAYLIGHT
TZOFFSETFROM:-0600
TZOFFSETTO:-0500
TZNAME:CDT
DTSTART:20210314T080000
END:DAYLIGHT
BEGIN:STANDARD
TZOFFSETFROM:-0500
TZOFFSETTO:-0600
TZNAME:CST
DTSTART:20211107T070000
END:STANDARD
BEGIN:DAYLIGHT
TZOFFSETFROM:-0600
TZOFFSETTO:-0500
TZNAME:CDT
DTSTART:20220313T080000
END:DAYLIGHT
BEGIN:STANDARD
TZOFFSETFROM:-0500
TZOFFSETTO:-0600
TZNAME:CST
DTSTART:20221106T070000
END:STANDARD
BEGIN:DAYLIGHT
TZOFFSETFROM:-0600
TZOFFSETTO:-0500
TZNAME:CDT
DTSTART:20230312T080000
END:DAYLIGHT
BEGIN:STANDARD
TZOFFSETFROM:-0500
TZOFFSETTO:-0600
TZNAME:CST
DTSTART:20231105T070000
END:STANDARD
END:VTIMEZONE
BEGIN:VEVENT
DTSTART;TZID=America/Chicago:20220215T180000
DTEND;TZID=America/Chicago:20220215T200000
DTSTAMP:20260423T171319
CREATED:20220107T013026Z
LAST-MODIFIED:20220107T013026Z
UID:2724-1644948000-1644955200@jaimeelainecreative.com
SUMMARY:Brushes and Brews - February 15th
DESCRIPTION:Brushes and Brews is a two hour painting workshop where Jaime from The Jaime Elaine Creative will walk you through an entire painting from start to finish. No painting experience is necessary\, as Jaime caters her pace and instructions to the group of students she has in the room. Variations are always given so that each artist can put their own personal spin on a painting\, and every participant gets to go home with a hand-made creation of their own! All painting supplies are included\, and paintings are done on 11×14 stretched canvas. Class is limited to 12 participants\, so get your tickets in advance! \nLakeview Taproom is a local Chicago bar that serves a hyper-local and ever-changing selection of craft beers for every palette. Come enjoy their beer selection as you paint just 10 minutes away from Wrigley field! They also serve wine and spirits\, as well as non-alcoholic options for those who do not want beer. \nDetails:\nTuesday\, February 15th\n6-8 pm\nLevel: beg/int (no experience necessary)\nLakeview Taproom: 1426 W Irving Park Rd\nTickets: $30 \nWe are painting this starry night-inspired scene together–I hope to see you there! \nVisit www.neighborhoodtaprooms.com/brushes-and-brews to sign up!
URL:https://jaimeelainecreative.com/event/brushes-and-brews-february-15th/
LOCATION:Lakeview Taproom\, 1426 W Irving Park Rd\, Chicago\, IL\, 60613\, United States
CATEGORIES:Paint and Sip in Lakeview,Painting Classes
ATTACH;FMTTYPE=image/png:https://jaimeelainecreative.com/wp-content/uploads/2022/01/ACS_0495.png
ORGANIZER;CN="The Jaime Elaine Creative":MAILTO:hello@jaimeelainecreative.com
END:VEVENT
BEGIN:VEVENT
DTSTART;TZID=America/Chicago:20220205T140000
DTEND;TZID=America/Chicago:20220205T160000
DTSTAMP:20260423T171319
CREATED:20220107T012834Z
LAST-MODIFIED:20220107T012834Z
UID:2722-1644069600-1644076800@jaimeelainecreative.com
SUMMARY:Galentine's/Palentine's Day Brushes and Brews!!
DESCRIPTION:CELEBRATE GALENTINE’S DAY/PALENTINE’S DAY WITH THE JAIME ELAINE CREATIVE LLC!! \nBrushes and Brews is a two hour painting workshop where Jaime from The Jaime Elaine Creative will walk you through an entire painting from start to finish. No painting experience is necessary\, as Jaime caters her pace and instructions to the group of students she has in the room. Variations are always given so that each artist can put their own personal spin on a painting\, and every participant gets to go home with a hand-made creation of their own! All painting supplies are included\, and paintings are done on 11×14 stretched canvas. Class is limited to 12 participants\, so get your tickets in advance! \nLakeview Taproom is a local Chicago bar that serves a hyper-local and ever-changing selection of craft beers for every palette. Come enjoy their beer selection as you paint just 10 minutes away from Wrigley field! They also serve wine and spirits\, as well as non-alcoholic options for those who do not want beer. \nDetails:\nSATURDAY\, February 5th\n2-4 pm\nLevel: beg/int (no experience necessary)\nLakeview Taproom: 1426 W Irving Park Rd\nTickets: $30 \nWe are painting this drapey abstract rose bouquet together–I hope to see you there! \nVisit www.neighborhoodtaprooms.com/brushes-and-brews to sign up!
URL:https://jaimeelainecreative.com/event/galentines-day-brushes-and-brews/
LOCATION:Lakeview Taproom\, 1426 W Irving Park Rd\, Chicago\, IL\, 60613\, United States
CATEGORIES:Paint and Sip in Lakeview,Painting Classes
ATTACH;FMTTYPE=image/jpeg:https://jaimeelainecreative.com/wp-content/uploads/2021/09/ACS_0088-1.jpeg
ORGANIZER;CN="The Jaime Elaine Creative":MAILTO:hello@jaimeelainecreative.com
END:VEVENT
BEGIN:VEVENT
DTSTART;TZID=America/Chicago:20220118T180000
DTEND;TZID=America/Chicago:20220118T200000
DTSTAMP:20260423T171319
CREATED:20220107T012419Z
LAST-MODIFIED:20220107T012419Z
UID:2720-1642528800-1642536000@jaimeelainecreative.com
SUMMARY:Brushes and Brews January 18
DESCRIPTION:Brushes and Brews is a two hour painting workshop where Jaime from The Jaime Elaine Creative will walk you through an entire painting from start to finish. No painting experience is necessary\, as Jaime caters her pace and instructions to the group of students she has in the room. Variations are always given so that each artist can put their own personal spin on a painting\, and every participant gets to go home with a hand-made creation of their own! All painting supplies are included\, and paintings are done on 11×14 stretched canvas. Class is limited to 12 participants\, so get your tickets in advance! \nLakeview Taproom is a local Chicago bar that serves a hyper-local and ever-changing selection of craft beers for every palette. Come enjoy their beer selection as you paint just 10 minutes away from Wrigley field! They also serve wine and spirits\, as well as non-alcoholic options for those who do not want beer. \nDetails:\nJanuary 18th\n6-8 pm\nLevel: beg/int (no experience necessary)\nLakeview Taproom: 1426 W Irving Park Rd\nTickets: $30 \nWe are painting this mountainous sunset scene together! \nVisit www.neighborhoodtaprooms.com/brushes-and-brews to sign up!
URL:https://jaimeelainecreative.com/event/brushes-and-brews-january-18/
LOCATION:Lakeview Taproom\, 1426 W Irving Park Rd\, Chicago\, IL\, 60613\, United States
CATEGORIES:Paint and Sip in Lakeview,Painting Classes
ATTACH;FMTTYPE=image/png:https://jaimeelainecreative.com/wp-content/uploads/2022/01/IMG_2620-e1641515643308.png
ORGANIZER;CN="The Jaime Elaine Creative":MAILTO:hello@jaimeelainecreative.com
END:VEVENT
BEGIN:VEVENT
DTSTART;TZID=America/Chicago:20211221T180000
DTEND;TZID=America/Chicago:20211221T200000
DTSTAMP:20260423T171319
CREATED:20211105T190214Z
LAST-MODIFIED:20211105T190214Z
UID:2443-1640109600-1640116800@jaimeelainecreative.com
SUMMARY:Brushes and Brews! December 21st
DESCRIPTION:Brushes and Brews is a two hour painting workshop where Jaime from The Jaime Elaine Creative will walk you through an entire painting from start to finish. No painting experience is necessary\, as Jaime caters her pace and instructions to the group of students she has in the room. Variations are always given so that each artist can put their own personal spin on a painting\, and every participant gets to go home with a hand-made creation of their own! All painting supplies are included\, and paintings are done on 11×14 stretched canvas. Class is limited to 12 participants\, so get your tickets in advance! \nLakeview Taproom is a local Chicago bar that serves a hyper-local and ever-changing selection of craft beers for every palette. Come enjoy their beer selection as you paint just 10 minutes away from Wrigley field! They also serve wine and spirits\, as well as non-alcoholic options for those who do not want beer. \nDetails:\nDecember 21st\n6-8 pm\nLevel: beg/int (no experience necessary)\nLakeview Taproom: 1426 W Irving Park Rd\nTickets: $30*\n*$25 if you sign up with a friend \nWe are painting this starry night-inspired scene together–I hope to see you there! \nVisit www.neighborhoodtaprooms.com/brushes-and-brews to sign up! \n 
URL:https://jaimeelainecreative.com/event/brushes-and-brews-dec21/
LOCATION:Lakeview Taproom\, 1426 W Irving Park Rd\, Chicago\, IL\, 60613\, United States
CATEGORIES:Paint and Sip in Lakeview,Painting Classes
ORGANIZER;CN="The Jaime Elaine Creative":MAILTO:hello@jaimeelainecreative.com
END:VEVENT
BEGIN:VEVENT
DTSTART;TZID=America/Chicago:20211207T180000
DTEND;TZID=America/Chicago:20211207T200000
DTSTAMP:20260423T171319
CREATED:20211105T185957Z
LAST-MODIFIED:20211105T185957Z
UID:2441-1638900000-1638907200@jaimeelainecreative.com
SUMMARY:Brushes and Brews! December 7th
DESCRIPTION:Brushes and Brews is a two hour painting workshop where Jaime from The Jaime Elaine Creative will walk you through an entire painting from start to finish. No painting experience is necessary\, as Jaime caters her pace and instructions to the group of students she has in the room. Variations are always given so that each artist can put their own personal spin on a painting\, and every participant gets to go home with a hand-made creation of their own! All painting supplies are included\, and paintings are done on 11×14 stretched canvas. Class is limited to 12 participants\, so get your tickets in advance! \nLakeview Taproom is a local Chicago bar that serves a hyper-local and ever-changing selection of craft beers for every palette. Come enjoy their beer selection as you paint just 10 minutes away from Wrigley field! They also serve wine and spirits\, as well as non-alcoholic options for those who do not want beer. \nDetails:\nDecember 7th\n6-8 pm\nLevel: beg/int (no experience necessary)\nLakeview Taproom: 1426 W Irving Park Rd\nTickets: $30*\n*$25 if you sign up with a friend \nWe are painting this beautiful wintery bouquet together–I hope to see you there! \nVisit www.neighborhoodtaprooms.com/brushes-and-brews to sign up! \n 
URL:https://jaimeelainecreative.com/event/brushes-and-brews-dec7/
LOCATION:Lakeview Taproom\, 1426 W Irving Park Rd\, Chicago\, IL\, 60613\, United States
CATEGORIES:Paint and Sip in Lakeview,Painting Classes
ORGANIZER;CN="The Jaime Elaine Creative":MAILTO:hello@jaimeelainecreative.com
END:VEVENT
BEGIN:VEVENT
DTSTART;TZID=America/Chicago:20211116T180000
DTEND;TZID=America/Chicago:20211116T200000
DTSTAMP:20260423T171319
CREATED:20211011T191535Z
LAST-MODIFIED:20211025T204137Z
UID:2333-1637085600-1637092800@jaimeelainecreative.com
SUMMARY:Brushes and Brews - November 16th
DESCRIPTION:This November\, join Jaime as we paint some quintessential fall masterpieces! Stay tuned to see what the painting will be for this Brushes and Brews event at Lakeview Taproom! \nBrushes and Brews is a two hour painting workshop where Jaime from The Jaime Elaine Creative will walk you through an entire painting from start to finish. No painting experience is necessary\, as Jaime caters her pace and instructions to the group of students she has in the room. Variations are always given so that each artist can put their own personal spin on a painting\, and every participant gets to go home with a hand-made creation of their own! All painting supplies are included\, and paintings are done on 11×14 stretched canvas. Class is limited to 12 participants\, so get your tickets in advance! \nLakeview Taproom is a local Chicago bar that serves a hyper-local and ever-changing selection of craft beers for every palette. Come enjoy their beer selection as you paint just 10 minutes away from Wrigley field! They also serve wine and spirits\, as well as non-alcoholic options for those who do not want beer. \nTickets are $30 in advanced and $25 each when you sign up with a friend. \nClasses are every other Tuesday from 6-8 pm. The sign up link can be found at the bottom of this page! I hope to see you there! \n 
URL:https://jaimeelainecreative.com/event/brushes-and-brews-nov16/
LOCATION:Lakeview Taproom\, 1426 W Irving Park Rd\, Chicago\, IL\, 60613\, United States
CATEGORIES:Paint and Sip in Lakeview,Painting Classes
ORGANIZER;CN="The Jaime Elaine Creative":MAILTO:hello@jaimeelainecreative.com
END:VEVENT
BEGIN:VEVENT
DTSTART;TZID=America/Chicago:20211102T180000
DTEND;TZID=America/Chicago:20211102T200000
DTSTAMP:20260423T171319
CREATED:20211011T191343Z
LAST-MODIFIED:20211025T204048Z
UID:2331-1635876000-1635883200@jaimeelainecreative.com
SUMMARY:Brushes and Brews - November 2nd
DESCRIPTION:This November\, join Jaime as we paint some quintessential fall masterpieces! Stay tuned to see what the painting will be for this Brushes and Brews event at Lakeview Taproom! \nBrushes and Brews is a two hour painting workshop where Jaime from The Jaime Elaine Creative will walk you through an entire painting from start to finish. No painting experience is necessary\, as Jaime caters her pace and instructions to the group of students she has in the room. Variations are always given so that each artist can put their own personal spin on a painting\, and every participant gets to go home with a hand-made creation of their own! All painting supplies are included\, and paintings are done on 11×14 stretched canvas. Class is limited to 12 participants\, so get your tickets in advance! \nLakeview Taproom is a local Chicago bar that serves a hyper-local and ever-changing selection of craft beers for every palette. Come enjoy their beer selection as you paint just 10 minutes away from Wrigley field! They also serve wine and spirits\, as well as non-alcoholic options for those who do not want beer. \nTickets are $30 in advanced and $25 each when you sign up with a friend. \nClasses are every other Tuesday from 6-8 pm. The sign up link can be found at the bottom of this page! I hope to see you there! \n 
URL:https://jaimeelainecreative.com/event/brushes-and-brews-nov2/
LOCATION:Lakeview Taproom\, 1426 W Irving Park Rd\, Chicago\, IL\, 60613\, United States
CATEGORIES:Paint and Sip in Lakeview,Painting Classes
ORGANIZER;CN="The Jaime Elaine Creative":MAILTO:hello@jaimeelainecreative.com
END:VEVENT
BEGIN:VEVENT
DTSTART;TZID=America/Chicago:20211019T130000
DTEND;TZID=America/Chicago:20211019T150000
DTSTAMP:20260423T171319
CREATED:20211002T094602Z
LAST-MODIFIED:20211002T094633Z
UID:2180-1634648400-1634655600@jaimeelainecreative.com
SUMMARY:Brushes and Boos!
DESCRIPTION:Join Jaime from The Jaime Elaine Creative on Tuesday\, October 19th as she leads a Halloween-themed paint and sip style class at Lakeview Taproom. Bring your friends to make the perfect Halloween decoration that will spookify any space in your home!! Class is from 6-8pm and tickets are $30 in advanced. Register with a friend\, and both receive $5 off your first class! \nBrushes and Brews is a two hour painting workshop where Jaime from The Jaime Elaine Creative will walk you through an entire painting from start to finish. No painting experience is necessary\, as Jaime caters her pace and instructions to the group of students she has in the room. Variation is always given so that each artist can put their own personal spin on a painting\, and every participant gets to go home with a hand-made creation of their own! All painting supplies are included\, and paintings are done on 11×14 stretched canvas. Class is limited to 12 participants\, so get your tickets in advance! \nLakeview Taproom is a local Chicago bar that serves a hyper-local and ever-changing selection of craft beers for every palette. Come enjoy their beer selection as you paint just 10 minutes away from Wrigley field! They also serve wine and spirits\, as well as non-alcoholic options for those who do not want beer.
URL:https://jaimeelainecreative.com/event/brushes-and-boos/
LOCATION:Lakeview Taproom\, 1426 W Irving Park Rd\, Chicago\, IL\, 60613\, United States
CATEGORIES:Paint and Sip in Lakeview
ATTACH;FMTTYPE=image/png:https://jaimeelainecreative.com/wp-content/uploads/2021/09/Pricing-Guide-Flyer-for-Photographers-Wedding-Planners.png
ORGANIZER;CN="The Jaime Elaine Creative":MAILTO:hello@jaimeelainecreative.com
END:VEVENT
BEGIN:VEVENT
DTSTART;TZID=America/Chicago:20211016T140000
DTEND;TZID=America/Chicago:20211016T160000
DTSTAMP:20260423T171319
CREATED:20211002T061438Z
LAST-MODIFIED:20211002T061526Z
UID:2191-1634392800-1634400000@jaimeelainecreative.com
SUMMARY:Virtual Paint Party!
DESCRIPTION:Join Jaime from the Jaime Elaine Creative from the comfort of your home for an afternoon of painting on Zoom! \nEach month\, Jaime will lead a painting class through a different painting designed by her with the help of you! Typically paintings will involve flowers–as that is Jaime’s favorite thing to paint!–but not always. No prior painting experience is necessary\, and Jaime loves to give options for variation so everyone can add their own personal twist to each painting. You will walk away from this event with a masterpiece!! \nEach participant is responsible for providing their own painting supplies.  \nThese include: \n\n Brushes\n\nAt least one small round and one small to medium square brush as well as one larger brush\n\n\nAcrylic paints \n\nJust the primary colors are necessary\, as Jaime will walk participants through mixing the colors needed for each painting\, but other colors are welcome if you’d like. Jaime will provide a list of paint colors needed before each class.\n\n\nCanvas or painting surface\n\nJaime typically teaches on 9×12 paper or canvas sheet\, or 11×14 stretched canvas\, but the size is artist’s choice\n\n\nPalette/plate\n\nSomewhere to pour and mix your colors\n\n\nCup for water\nPaper towel or wash cloth\n\nSomething you don’t mind getting stained with paint\n\n\nPaint shirt\n\nOr wear something you don’t want to get dirty because acrylic paint does stain clothes\n\n\nOptional easel or canvas stand\n\nThis is not necessary\, it is perfectly fine to paint flat on your table (but maybe put a towel or newspaper down underneath!)
URL:https://jaimeelainecreative.com/event/virtual-paint-party/
LOCATION:Zoom
CATEGORIES:Painting Classes,Virtual classes
ATTACH;FMTTYPE=image/jpeg:https://jaimeelainecreative.com/wp-content/uploads/2021/09/IMG_5911-e1638407172529.jpeg
ORGANIZER;CN="The Jaime Elaine Creative":MAILTO:hello@jaimeelainecreative.com
END:VEVENT
BEGIN:VEVENT
DTSTART;TZID=America/Chicago:20211005T130000
DTEND;TZID=America/Chicago:20211005T150000
DTSTAMP:20260423T171319
CREATED:20211002T093243Z
LAST-MODIFIED:20211002T100635Z
UID:2170-1633438800-1633446000@jaimeelainecreative.com
SUMMARY:Brushes and Bats!
DESCRIPTION:  \nJoin The Jaime Elaine Creative at Lakeview Taproom for a Spooky Season Paint and Sip class this Tuesday\, October 5th! Class is from 6-8 pm and tickets are $30. If you sign up with a friend for your first class\, you each get $5 off your ticket! \nBrushes and Brews is a two hour painting workshop where Jaime from The Jaime Elaine Creative will walk you through an entire painting from start to finish. No painting experience is necessary\, as Jaime caters her pace and instructions to the group of students she has in the room. Variation is always given so that each artist can put their own personal spin on a painting\, and every participant gets to go home with a hand-made creation of their own! All painting supplies are included\, and paintings are done on 11×14 stretched canvas. Class is limited to 12 participants\, so get your tickets in advance! \nLakeview Taproom is a local Chicago bar that serves a hyper-local and ever-changing selection of craft beers for every palette. Come enjoy their beer selection as you paint just 10 minutes away from Wrigley field! They also serve wine and spirits\, as well as non-alcoholic options for those who do not want beer.
URL:https://jaimeelainecreative.com/event/brushes-and-bats/
LOCATION:Lakeview Taproom\, 1426 W Irving Park Rd\, Chicago\, IL\, 60613\, United States
CATEGORIES:Paint and Sip in Lakeview,Painting Classes
ORGANIZER;CN="The Jaime Elaine Creative":MAILTO:hello@jaimeelainecreative.com
END:VEVENT
END:VCALENDAR