BEGIN:VCALENDAR
VERSION:2.0
PRODID:-//The Jaime Elaine Creative - ECPv6.15.20//NONSGML v1.0//EN
CALSCALE:GREGORIAN
METHOD:PUBLISH
X-ORIGINAL-URL:https://jaimeelainecreative.com
X-WR-CALDESC:Events for The Jaime Elaine Creative
REFRESH-INTERVAL;VALUE=DURATION:PT1H
X-Robots-Tag:noindex
X-PUBLISHED-TTL:PT1H
BEGIN:VTIMEZONE
TZID:America/Chicago
BEGIN:DAYLIGHT
TZOFFSETFROM:-0600
TZOFFSETTO:-0500
TZNAME:CDT
DTSTART:20200308T080000
END:DAYLIGHT
BEGIN:STANDARD
TZOFFSETFROM:-0500
TZOFFSETTO:-0600
TZNAME:CST
DTSTART:20201101T070000
END:STANDARD
BEGIN:DAYLIGHT
TZOFFSETFROM:-0600
TZOFFSETTO:-0500
TZNAME:CDT
DTSTART:20210314T080000
END:DAYLIGHT
BEGIN:STANDARD
TZOFFSETFROM:-0500
TZOFFSETTO:-0600
TZNAME:CST
DTSTART:20211107T070000
END:STANDARD
BEGIN:DAYLIGHT
TZOFFSETFROM:-0600
TZOFFSETTO:-0500
TZNAME:CDT
DTSTART:20220313T080000
END:DAYLIGHT
BEGIN:STANDARD
TZOFFSETFROM:-0500
TZOFFSETTO:-0600
TZNAME:CST
DTSTART:20221106T070000
END:STANDARD
END:VTIMEZONE
BEGIN:VEVENT
DTSTART;TZID=America/Chicago:20211012T190000
DTEND;TZID=America/Chicago:20211012T200000
DTSTAMP:20260424T001748
CREATED:20211007T110005Z
LAST-MODIFIED:20211008T042236Z
UID:2183-1634065200-1634068800@jaimeelainecreative.com
SUMMARY:Yoga in Gross Park
DESCRIPTION:Join Jaime from The Jaime Elaine Creative in an evening of Vinyasa Flow under the evening sky! \nJaime is teaching a Yoga flow class at Gross Park on Henderson and Paulina on Tuesday\, October 12th at 6pm. Class is pay-what-you-can with a suggested payment of $15. Bring as many friends as you like! To sign up\, fill out the form at this link (also attached below): \nhttps://jaimeelainecreative.com/ninja-forms/5qkgj \nClass will be mixed-level with variations given for different poses so yogis can choose their level of difficulty. \nJaime’s dance background makes her pose transitions deliberate and and elastic. She loves to make the flow connect each move together almost like a dance and find different ways to move between asanas. She is 200 hr yoga certified and loves connecting breath\, movement\, meditation\, and nature.
URL:https://jaimeelainecreative.com/event/yoga-in-gross-park/
LOCATION:Gross Park\, 1700 W Henderson Street\, Chicago\, IL\, 60657\, United States
CATEGORIES:Yoga,Yoga in the Park
ORGANIZER;CN="The Jaime Elaine Creative":MAILTO:hello@jaimeelainecreative.com
END:VEVENT
END:VCALENDAR