BEGIN:VCALENDAR
VERSION:2.0
PRODID:-//The Jaime Elaine Creative - ECPv6.15.20//NONSGML v1.0//EN
CALSCALE:GREGORIAN
METHOD:PUBLISH
X-WR-CALNAME:The Jaime Elaine Creative
X-ORIGINAL-URL:https://jaimeelainecreative.com
X-WR-CALDESC:Events for The Jaime Elaine Creative
REFRESH-INTERVAL;VALUE=DURATION:PT1H
X-Robots-Tag:noindex
X-PUBLISHED-TTL:PT1H
BEGIN:VTIMEZONE
TZID:America/Chicago
BEGIN:DAYLIGHT
TZOFFSETFROM:-0600
TZOFFSETTO:-0500
TZNAME:CDT
DTSTART:20250309T080000
END:DAYLIGHT
BEGIN:STANDARD
TZOFFSETFROM:-0500
TZOFFSETTO:-0600
TZNAME:CST
DTSTART:20251102T070000
END:STANDARD
BEGIN:DAYLIGHT
TZOFFSETFROM:-0600
TZOFFSETTO:-0500
TZNAME:CDT
DTSTART:20260308T080000
END:DAYLIGHT
BEGIN:STANDARD
TZOFFSETFROM:-0500
TZOFFSETTO:-0600
TZNAME:CST
DTSTART:20261101T070000
END:STANDARD
BEGIN:DAYLIGHT
TZOFFSETFROM:-0600
TZOFFSETTO:-0500
TZNAME:CDT
DTSTART:20270314T080000
END:DAYLIGHT
BEGIN:STANDARD
TZOFFSETFROM:-0500
TZOFFSETTO:-0600
TZNAME:CST
DTSTART:20271107T070000
END:STANDARD
END:VTIMEZONE
BEGIN:VEVENT
DTSTART;TZID=America/Chicago:20260711T100000
DTEND;TZID=America/Chicago:20260712T170000
DTSTAMP:20260423T183226
CREATED:20260325T002717Z
LAST-MODIFIED:20260325T002717Z
UID:7074-1783764000-1783875600@jaimeelainecreative.com
SUMMARY:Southport Art Fest 2026
DESCRIPTION:Join me for my 5th year in a row at the Southport Art Fest this July! Southport was my very first art show in 2022\, and it remains one of my absolute favorite shows every year! Located right in my own neighborhood along the Southport Corridor\, this show is always beautifully curated and fun for art-lovers of all ages! \nEVENT DETAILS:\nSaturday\, July 11th · 10am – 7pm\nSunday\, July 12th · 10am – 5pm\nLocated along Southport Avenue between Byron and Waveland\, just north of Addison St. \nFrom their website:\nGet ready\, Chicago! The Southport Art Fest is back this July 11 & 12 on the city’s northside! This cherished neighborhood festival brings together an incredible lineup of 100 artists\, a vibrant street festival atmosphere\, and free admission for all—making it the perfect summer weekend outing. Stroll down Southport Avenue\, where stunning artwork meets the energy of one of Chicago’s favorite districts. \nBrowse unique\, high-quality art\, savor the food of local restaurants\, and explore charming boutique shops and theaters. Kids Art Zone\, face painting\, personalized poems\, and tons of other activities for the whole family. With extended festival hours\, you’ll have even more time to discover\, collect\, and celebrate creativity. Mark your calendar and join us for an unforgettable art-filled weekend!
URL:https://jaimeelainecreative.com/event/southport-art-fest-2026/
LOCATION:Southport Art Fest\, W. Waveland Ave. & N. Southport Ave.\, Chicago\, 60657\, United States
CATEGORIES:Art Fests
ATTACH;FMTTYPE=image/jpeg:https://jaimeelainecreative.com/wp-content/uploads/2025/03/13346.jpeg
END:VEVENT
BEGIN:VEVENT
DTSTART;TZID=America/Chicago:20260829T110000
DTEND;TZID=America/Chicago:20260830T190000
DTSTAMP:20260423T183226
CREATED:20260325T004111Z
LAST-MODIFIED:20260325T004111Z
UID:7076-1788001200-1788116400@jaimeelainecreative.com
SUMMARY:Bucktown Arts Fest 2026
DESCRIPTION:I’m excited to be back for the second time at the Bucktown Arts Fest this August. \nEVENT DETAILS:\nSaturday\, August 29th · 11am – 7pm\nSunday\, August 30th · 11am – 7pm\nLocated across from Holstein Park · 2200 N Oakley Ave. Chicago\, Illinois 60647 \nFrom their website:\nLocated in one of the hottest neighborhoods on the north side of Chicago\,\nthe Bucktown Arts Fest will celebrate its 39th year August 29-30\, 2026. \nWhat began as four artists showing their work in the park has grown into a community tradition that hosts an estimated 40\,000 people each year. Known for both its grassroots atmosphere and its tradition of great artists sharing their own handmade work\, the Bucktown Arts Fest is a non-profit\, all-volunteer run\, neighborhood celebration of the arts. All proceeds from the fest go to fund\, develop and support arts education programming at Holstein Park and in the Bucktown/Wicker Park neighborhoods. Our fest is free to the public from 11am to 7pm each day. We have no gate and no donation request for entry. True to our roots\, we are an arts fest put together by the community\, for our community.
URL:https://jaimeelainecreative.com/event/bucktown-arts-fest-2026/
LOCATION:Bucktown Arts Fest
CATEGORIES:Art Fests
ATTACH;FMTTYPE=image/jpeg:https://jaimeelainecreative.com/wp-content/uploads/2026/03/14207.jpeg
ORGANIZER;CN="Bucktown Arts Fest":MAILTO:inquiries@bucktownartsfest.com
END:VEVENT
END:VCALENDAR