BEGIN:VCALENDAR
VERSION:2.0
PRODID:-//The Jaime Elaine Creative - ECPv6.15.20//NONSGML v1.0//EN
CALSCALE:GREGORIAN
METHOD:PUBLISH
X-ORIGINAL-URL:https://jaimeelainecreative.com
X-WR-CALDESC:Events for The Jaime Elaine Creative
REFRESH-INTERVAL;VALUE=DURATION:PT1H
X-Robots-Tag:noindex
X-PUBLISHED-TTL:PT1H
BEGIN:VTIMEZONE
TZID:America/Chicago
BEGIN:DAYLIGHT
TZOFFSETFROM:-0600
TZOFFSETTO:-0500
TZNAME:CDT
DTSTART:20220313T080000
END:DAYLIGHT
BEGIN:STANDARD
TZOFFSETFROM:-0500
TZOFFSETTO:-0600
TZNAME:CST
DTSTART:20221106T070000
END:STANDARD
BEGIN:DAYLIGHT
TZOFFSETFROM:-0600
TZOFFSETTO:-0500
TZNAME:CDT
DTSTART:20230312T080000
END:DAYLIGHT
BEGIN:STANDARD
TZOFFSETFROM:-0500
TZOFFSETTO:-0600
TZNAME:CST
DTSTART:20231105T070000
END:STANDARD
BEGIN:DAYLIGHT
TZOFFSETFROM:-0600
TZOFFSETTO:-0500
TZNAME:CDT
DTSTART:20240310T080000
END:DAYLIGHT
BEGIN:STANDARD
TZOFFSETFROM:-0500
TZOFFSETTO:-0600
TZNAME:CST
DTSTART:20241103T070000
END:STANDARD
END:VTIMEZONE
BEGIN:VEVENT
DTSTART;TZID=America/Chicago:20231102T180000
DTEND;TZID=America/Chicago:20231102T200000
DTSTAMP:20260425T053118
CREATED:20231018T185654Z
LAST-MODIFIED:20231018T185654Z
UID:5182-1698948000-1698955200@jaimeelainecreative.com
SUMMARY:Fall Paint Party at Southport Fundamentals!
DESCRIPTION:Paint and Sip classes with Jaime are BACK!  \nCome join the Jaime Elaine Creative on Thursday\, November 2nd from 6-8pm to learn a fall-themed painting with your pals! All supplies are provided for this BYOB paint-and-sip night where Jaime will walk you through a guided painting. All levels of artistic experience are welcome\, and every participant with have their very own masterpiece to bring home at the end of the evening! \nThis Fall’s painting event will take place at an exciting new community center in Lakeview: Southport Fundamentals! This space has amazing offerings for adults and children alike\, and it is located in the lovely Southport Corridor right across from Blaine Elementary School. \nSpaces will be limited\, so be sure to reserve your spot in advance!\nSign up for this event here: https://www.hisawyer.com/southport-fundamentals/schedules/activity-set/553807 \n*The class fee is $45 per guest\n*All painting supplies provided\n*Wear clothing you don’t mind getting paint on as acrylic paint does stain\n*This event is BYOB. Feel free to bring beverages of your choice to enjoy throughout the evening!
URL:https://jaimeelainecreative.com/event/fall-paint-party/
LOCATION:Southport Fundamentals\, 3827 N Southport Ave\, Chicago\, IL\, 60613\, United States
CATEGORIES:Painting Classes
ATTACH;FMTTYPE=image/jpeg:https://jaimeelainecreative.com/wp-content/uploads/2021/12/IMG_1246.jpeg
ORGANIZER;CN="The Jaime Elaine Creative":MAILTO:hello@jaimeelainecreative.com
END:VEVENT
END:VCALENDAR