BEGIN:VCALENDAR
VERSION:2.0
PRODID:-//The Jaime Elaine Creative - ECPv6.15.20//NONSGML v1.0//EN
CALSCALE:GREGORIAN
METHOD:PUBLISH
X-ORIGINAL-URL:https://jaimeelainecreative.com
X-WR-CALDESC:Events for The Jaime Elaine Creative
REFRESH-INTERVAL;VALUE=DURATION:PT1H
X-Robots-Tag:noindex
X-PUBLISHED-TTL:PT1H
BEGIN:VTIMEZONE
TZID:America/Chicago
BEGIN:DAYLIGHT
TZOFFSETFROM:-0600
TZOFFSETTO:-0500
TZNAME:CDT
DTSTART:20230312T080000
END:DAYLIGHT
BEGIN:STANDARD
TZOFFSETFROM:-0500
TZOFFSETTO:-0600
TZNAME:CST
DTSTART:20231105T070000
END:STANDARD
BEGIN:DAYLIGHT
TZOFFSETFROM:-0600
TZOFFSETTO:-0500
TZNAME:CDT
DTSTART:20240310T080000
END:DAYLIGHT
BEGIN:STANDARD
TZOFFSETFROM:-0500
TZOFFSETTO:-0600
TZNAME:CST
DTSTART:20241103T070000
END:STANDARD
BEGIN:DAYLIGHT
TZOFFSETFROM:-0600
TZOFFSETTO:-0500
TZNAME:CDT
DTSTART:20250309T080000
END:DAYLIGHT
BEGIN:STANDARD
TZOFFSETFROM:-0500
TZOFFSETTO:-0600
TZNAME:CST
DTSTART:20251102T070000
END:STANDARD
END:VTIMEZONE
BEGIN:VEVENT
DTSTART;TZID=America/Chicago:20240622T100000
DTEND;TZID=America/Chicago:20240623T160000
DTSTAMP:20260424T172017
CREATED:20240425T230302Z
LAST-MODIFIED:20240425T230302Z
UID:5769-1719050400-1719158400@jaimeelainecreative.com
SUMMARY:North Shore Artisan Market 2024
DESCRIPTION:Join Jaime at the North Shore Artisan Market this June! \nJaime is excited to announce that we will have a booth at the first Northshore Artisan Market this summer!  The Artisan Markets have been so fun for Jaime to attend as a patron\, with the Chicago Artisan Market in Ravenswood being one of her favorites to walk around. This will be her first market as a vendor with Artisan markets\, though\, and this org is affiliated with even more Artisan markets throughout the greater Chicago land and surrounding suburbs! They are always well-curated and diverse markets\, and we can’t wait to be included in the awesome vendor list this June! \nDetails:\nSaturday and Sunday\, June 22 – 23\, 2024\n10:00 am – 4:00 pm both days \nBooth number and location TBA \nFrom the website:  \n“Our first North Shore Artisan Market will kick-off Summer 2024 outdoors in picturesque Village Green Park in the heart of downtown Northbrook\, IL.  We love the park’s community feel and central location. \n“This market is conveniently located one block from METRA’s Northbrook Station (Milwaukee District North line)\,  and is surrounded by downtown Northbrook’s neighboring small businesses. \n“We look forward to contributing to the vibrancy of Northbrook and its local businesses.” \n  \nNorth Shore Artisan Market map\n 
URL:https://jaimeelainecreative.com/event/northshore-artisan-market/
LOCATION:North Shore Artisan Market\, 1810 Walters Ave\, Northbrook\, IL\, United States
ATTACH;FMTTYPE=image/jpeg:https://jaimeelainecreative.com/wp-content/uploads/2024/04/NorthShoreArtisanMarket_BlackSquare_1080x1080.jpg
END:VEVENT
END:VCALENDAR