BEGIN:VCALENDAR
VERSION:2.0
PRODID:-//The Jaime Elaine Creative - ECPv6.15.20//NONSGML v1.0//EN
CALSCALE:GREGORIAN
METHOD:PUBLISH
X-WR-CALNAME:The Jaime Elaine Creative
X-ORIGINAL-URL:https://jaimeelainecreative.com
X-WR-CALDESC:Events for The Jaime Elaine Creative
REFRESH-INTERVAL;VALUE=DURATION:PT1H
X-Robots-Tag:noindex
X-PUBLISHED-TTL:PT1H
BEGIN:VTIMEZONE
TZID:America/Chicago
BEGIN:DAYLIGHT
TZOFFSETFROM:-0600
TZOFFSETTO:-0500
TZNAME:CDT
DTSTART:20230312T080000
END:DAYLIGHT
BEGIN:STANDARD
TZOFFSETFROM:-0500
TZOFFSETTO:-0600
TZNAME:CST
DTSTART:20231105T070000
END:STANDARD
BEGIN:DAYLIGHT
TZOFFSETFROM:-0600
TZOFFSETTO:-0500
TZNAME:CDT
DTSTART:20240310T080000
END:DAYLIGHT
BEGIN:STANDARD
TZOFFSETFROM:-0500
TZOFFSETTO:-0600
TZNAME:CST
DTSTART:20241103T070000
END:STANDARD
BEGIN:DAYLIGHT
TZOFFSETFROM:-0600
TZOFFSETTO:-0500
TZNAME:CDT
DTSTART:20250309T080000
END:DAYLIGHT
BEGIN:STANDARD
TZOFFSETFROM:-0500
TZOFFSETTO:-0600
TZNAME:CST
DTSTART:20251102T070000
END:STANDARD
END:VTIMEZONE
BEGIN:VEVENT
DTSTART;TZID=America/Chicago:20240713T100000
DTEND;TZID=America/Chicago:20240714T200000
DTSTAMP:20260424T160340
CREATED:20240305T035557Z
LAST-MODIFIED:20240425T231858Z
UID:5756-1720864800-1720987200@jaimeelainecreative.com
SUMMARY:Southport Art Fest 2024
DESCRIPTION:Stop by Southport Art Fest this July! \nAs our inaugural show back in 2022\, we are beyond thrilled to be back for our third year in a row at the Southport Art Fest! This show is in Jaime’s own neighborhood\, and it is such a joy to be able to share her art with local families and friends! \nThis year\, the show takes place from July 13th-14th.  Check out the music\, all the incredible artists\, and even support local schools when you grab a drink at one of the drink tents! \nDetails:\nJuly 13-14\, 2024\nSaturday: 10:00 am – 9:00 pm\nSunday: 10:00 am – 7:00 pm\nBooth location TBA. \nUPDATE: Jaime is beyond thrilled to announce that one of her paintings was selected for the festival’s poster this year! This is the second time Jaime’s art has been chosen for the Southport Art Fest Poster\, and we are very excited! And with an abstract piece this year which is quite exciting as well! \nA throwback to the poster from Southport Art Fest 2022!\n 
URL:https://jaimeelainecreative.com/event/southport-art-fest-2024/
LOCATION:Southport Art Fest\, W. Waveland Ave. & N. Southport Ave.\, Chicago\, 60657\, United States
ATTACH;FMTTYPE=image/jpeg:https://jaimeelainecreative.com/wp-content/uploads/2024/03/IMG_2432.jpeg
END:VEVENT
BEGIN:VEVENT
DTSTART;TZID=America/Chicago:20240727T100000
DTEND;TZID=America/Chicago:20240727T170000
DTSTAMP:20260424T160340
CREATED:20240305T035101Z
LAST-MODIFIED:20240305T035101Z
UID:5754-1722074400-1722099600@jaimeelainecreative.com
SUMMARY:Saugatuck Village Square Art Fair 2024
DESCRIPTION:We are excited to be returning to the Saugatuck Village Square Art Fair for the second year in a row! This was one of Jaime’s favorite shows of 2023\, and it was her first out-of-state art fest! \nIf you already live or play in Michigan\, be sure to stop on by! If you’re a collector from Chicago\, this one is worth the short trek from the city!!  Come visit the beautiful lakeside town of Saugatuck\, Michigan for the weekend and enjoy the art fair on Saturday\, July 27th from 10-5! This festival takes place the same weekend as the Venetian Festival which is also a huge draw to the city\, so enjoy these events as well as the lovely restaurants\, fun shops\, lakefront activities and more that Saugatuck has to offer!! \nAs a note\, Saugatuck is a popular spot for Chicagoans to vacation for the summer\, and lodging fills up pretty early in advance\, so if you’d like to visit for this show weekend\, be sure to book your stay sooner rather than later! \n 
URL:https://jaimeelainecreative.com/event/saugatuck-art-fair-2024/
LOCATION:Saugatuck Village Square\, 428 Butler Street\, Saugatuck\, MI\, 49453\, United States
ATTACH;FMTTYPE=image/jpeg:https://jaimeelainecreative.com/wp-content/uploads/2023/12/Saugatuck-2023.jpeg
END:VEVENT
END:VCALENDAR