BEGIN:VCALENDAR
VERSION:2.0
PRODID:-//The Jaime Elaine Creative - ECPv6.15.20//NONSGML v1.0//EN
CALSCALE:GREGORIAN
METHOD:PUBLISH
X-WR-CALNAME:The Jaime Elaine Creative
X-ORIGINAL-URL:https://jaimeelainecreative.com
X-WR-CALDESC:Events for The Jaime Elaine Creative
REFRESH-INTERVAL;VALUE=DURATION:PT1H
X-Robots-Tag:noindex
X-PUBLISHED-TTL:PT1H
BEGIN:VTIMEZONE
TZID:America/Chicago
BEGIN:DAYLIGHT
TZOFFSETFROM:-0600
TZOFFSETTO:-0500
TZNAME:CDT
DTSTART:20250309T080000
END:DAYLIGHT
BEGIN:STANDARD
TZOFFSETFROM:-0500
TZOFFSETTO:-0600
TZNAME:CST
DTSTART:20251102T070000
END:STANDARD
BEGIN:DAYLIGHT
TZOFFSETFROM:-0600
TZOFFSETTO:-0500
TZNAME:CDT
DTSTART:20260308T080000
END:DAYLIGHT
BEGIN:STANDARD
TZOFFSETFROM:-0500
TZOFFSETTO:-0600
TZNAME:CST
DTSTART:20261101T070000
END:STANDARD
BEGIN:DAYLIGHT
TZOFFSETFROM:-0600
TZOFFSETTO:-0500
TZNAME:CDT
DTSTART:20270314T080000
END:DAYLIGHT
BEGIN:STANDARD
TZOFFSETFROM:-0500
TZOFFSETTO:-0600
TZNAME:CST
DTSTART:20271107T070000
END:STANDARD
END:VTIMEZONE
BEGIN:VEVENT
DTSTART;TZID=America/Chicago:20260606T110000
DTEND;TZID=America/Chicago:20260607T170000
DTSTAMP:20260423T123906
CREATED:20260324T235650Z
LAST-MODIFIED:20260324T235816Z
UID:7063-1780743600-1780851600@jaimeelainecreative.com
SUMMARY:Legacy Village Art in the Village
DESCRIPTION:Join me near my hometown for this lovely market at Legacy Village in Beachwood\, Ohio. This is my second time at the festival\, and I am so excited to return for another great year! \nWHEN: Saturday\, June 6th\, 2026 · 11:00am to 6:00pm\n               Sunday\, June 7th\, 2026 · 11:00am to 5:00pm\nWHERE: Legacy Village · 25001 Cedar Rd. in Cleveland\, OH \nFrom their website:\nImmerse yourself in a harmonious blend of art\, culinary delights\, and family entertainment at Legacy Village in Lyndhurst. This exceptional event boasts a diverse range of over 100 skilled artists exhibiting their remarkable creations across various mediums\, including paintings\, jewelry\, photography\, sculptures\, ceramics\, and much more. Additionally\, a separate craft marketplace awaits your exploration! Take your time to wander through the fascinating art displays\, savor scrumptious treats from the diverse array of on-site eateries\, and create unforgettable memories with your loved ones. This is an extraordinary occasion that you surely don’t want to miss!
URL:https://jaimeelainecreative.com/event/legacy-village-art-in-the-village/
LOCATION:Legacy Village\, 25001 Cedar Rd\, Lyndhurst\, OH\, 44124\, United States
CATEGORIES:Art Fests
ATTACH;FMTTYPE=image/jpeg:https://jaimeelainecreative.com/wp-content/uploads/2025/04/12732.jpeg
END:VEVENT
BEGIN:VEVENT
DTSTART;TZID=America/Chicago:20260613T100000
DTEND;TZID=America/Chicago:20260614T210000
DTSTAMP:20260423T123906
CREATED:20260325T001030Z
LAST-MODIFIED:20260325T001030Z
UID:7066-1781344800-1781470800@jaimeelainecreative.com
SUMMARY:Wells Street Art Fest 2026
DESCRIPTION:The Wells Street Art Festival has long been one of my absolute favorite festivals to attend as a patron in Chicago\, so I am thrilled to be returning again this summer! This is the show’s 51st year\, and it is well-established for a reason. \nDETAILS:\nSaturday\, June 13th 10am-10pm\nSunday\, June 14th 10am-9pm\nLocated on Wells Street in Old Town\, between North Avenue and Division Street. \nFrom their website:\nABOUT THE WELLS STREET ART FESTIVAL\nCelebrating its 51st year in 2026\, The Wells Street Art Festival is one of the most prestigious  Art Fairs in the nation\, continuously ranked in Sunshine Artist’s Top 100 Fine Art Fairs. This juried event features the work of 200 national exhibitors and is attended by more than 40\,000 art enthusiasts. \nBut it’s not just art that draws the upscale crowd to the event and street; the Festival also features the cuisine of  neighborhood restaurants\, a music stage with continuous entertainment\, and a family activity area. The Wells Street Art Festival transforms Wells Street\, the heart of Chicago’s historic Old Town\, into an open-air Art museum. \nThe Wells Street Art Festival is the Old Town Merchants and Residents Association’s most important annual fundraiser\, with proceeds providing crucial support to various community endeavors.
URL:https://jaimeelainecreative.com/event/wells-street-art-fest-2026/
LOCATION:Wells Street Art Festival\, Wells Street\, Chicago\, IL\, United States
CATEGORIES:Art Fests
ATTACH;FMTTYPE=image/jpeg:https://jaimeelainecreative.com/wp-content/uploads/2025/03/Image.jpg
END:VEVENT
BEGIN:VEVENT
DTSTART;TZID=America/Chicago:20260620T100000
DTEND;TZID=America/Chicago:20260621T170000
DTSTAMP:20260423T123906
CREATED:20260325T002011Z
LAST-MODIFIED:20260325T002022Z
UID:7068-1781949600-1782061200@jaimeelainecreative.com
SUMMARY:Gold Coast Art Fair 2026
DESCRIPTION:Catch me in Downtown Chicago this summer for the Gold Coast Art Fair in Grant Park! \nEVENT DETAILS:\nSaturday\, June 20th  ·  10am-5pm\nSunday\, June 21st  ·  10am-5pm\nGrant Park’s Butler Field  ·  S Lake Shore Dr & E Monroe St\, Chicago\, IL 60601 \nFrom their website:\nThe “Granddaddy of American Art Festivals\,” the 68th Gold Coast Art Fair returns to Grant Park! The Gold Coast Art Fair is the 3rd oldest and one of the most well attended art fests in Chicago. Located within walking distance of the Art Institute\, The Bean and Buckingham Fountain\, Gold Coast Art Fair draws thousands of art enthusiasts from Chicago and the surrounding suburbs due to its heavy advertising program and reputation. Gold Coast Art Fair features about 250 artists in a lovely setting with both lake views and park vistas backed by the Chicago skyline.
URL:https://jaimeelainecreative.com/event/gold-coast-art-fair-2026/
LOCATION:Butler Field\, Grant Park\, S Lake Shore Dr & E Monroe St\, Chicago\, IL\, 60601\, United States
CATEGORIES:Art Fests
ATTACH;FMTTYPE=image/jpeg:https://jaimeelainecreative.com/wp-content/uploads/2026/03/13989.jpeg
END:VEVENT
END:VCALENDAR